BEGIN:VCALENDAR
PRODID:NingEventWidget-v1
VERSION:2.0
METHOD:PUBLISH
BEGIN:VTIMEZONE
TZID:Pacific/Midway
X-LIC-LOCATION:Pacific/Midway
BEGIN:STANDARD
TZOFFSETFROM:-1100
TZOFFSETTO:-1100
TZNAME:SST
DTSTART:19700101T000000
END:STANDARD
END:VTIMEZONE
BEGIN:VEVENT
UID:3646443:Event:7446
DTSTAMP:20260422T124951Z
SUMMARY:Rockwood Farmers' Santa Claus Parade of Lights
DESCRIPTION:Join us this Year for the...\n18th Annual Parade!\n\nThurs
 day, December 9th, 2010.\n\nMain Street and Highway 7\nRockwood, Ontar
 io\n\nVisit the Parade Route Link\nfor Route and Directions!\n\nRain, 
 Snow or Shine!!\n\nFor more information visit https://ontag.farms.com/
 events/rockwood-farmers-santa-claus
DTSTART;TZID=Pacific/Midway:20101209T190000
DTEND;TZID=Pacific/Midway:20101209T200000
CATEGORIES:parade
LOCATION:Main Street and Hwy 7
WEBSITE:http://www.rockwoodfarmersparade.org/
URL:http://www.rockwoodfarmersparade.org/
CONTACT:
ORGANIZER:Rockwood Parade
ATTACH;FMTTYPE="image/jpeg":http://storage.ning.com/topology/rest/1.0/
 file/get/1091505474?profile=original
ATTENDEE;ROLE=REQ-PARTICIPANT;PARTSTAT=ACCEPTED;RSVP=TRUE;CN="TD Brand
 er":https://ontag.farms.com/profile/TDBrander
ATTENDEE;ROLE=REQ-PARTICIPANT;PARTSTAT=ACCEPTED;RSVP=TRUE;CN="OntAG Ad
 min":https://ontag.farms.com/profile/OntAGAdmin
END:VEVENT
END:VCALENDAR
