BEGIN:VCALENDAR
PRODID:NingEventWidget-v1
VERSION:2.0
METHOD:PUBLISH
BEGIN:VTIMEZONE
TZID:Pacific/Midway
X-LIC-LOCATION:Pacific/Midway
BEGIN:STANDARD
TZOFFSETFROM:-1100
TZOFFSETTO:-1100
TZNAME:SST
DTSTART:19700101T000000
END:STANDARD
END:VTIMEZONE
BEGIN:VEVENT
UID:3646443:Event:112275
DTSTAMP:20260420T211641Z
SUMMARY:Rotational Grazing Pasture Walks
DESCRIPTION:Advanced Grazing Mentorship Program Pasture Walks - FREE\n
 Grey County, Saturday, June 17, 2023, 9 am – 1 pm Host: Dean Cober T
 opic – Paddock Design\nLeeds County – Saturday, June 24, 2023, 9 a
 m – 1 pm Host: Anita O’Brien Topic – Water Systems\nManitoulin I
 sland – Saturday, August 12, 2023, 9 am - 1 pm Host: Birgit Martin T
 opic – Carrying Capacity\n \nRegister:\nhttps://events.eventzilla.n
 et/e/rotational-grazing-pasture-walks-2138593185?preview=1683824607443
 \n \nOFC website for program updates: https//onforagenetwork.ca/ontar
 io-forage-council/advanced-grazing-mentorship-program/\n \nOntario Fo
 rage Council is excited to continue our partnership with the Canadian 
 Forage and Grassland Association to extend the Advanced Grazing Mentor
 ship Program with a series of pasture walks in the summer of 2023.  E
 ach of OFC’s Ontario Advanced Grazing Mentors will host a field day 
 that highlights a different rotational grazing BMP.  Due to the gener
 ous funding from the Farmers for Climate Solutions, these events are o
 ffered FREE of charge.\n \nDean Cober will kick off the series in Gre
 y County on Saturday, June 17 with a live paddock design workshop and 
 animal movement demo.  Mike Swidersky (Bruce County), O’Brien and C
 hristine O’Reilly (OMAFRA) will be presenting demos on how to fence 
 in tricky situations as well as managing your supply with precision pa
 sture management and rising plate meter demo.  Attendees are invited 
 to bring their fence tester to join in the demonstration!  Arrive a f
 ew minutes early to register and get your coffee and muffin, then stay
  a few minutes after the demos to chat over light sandwiches!  Water 
 and an accessible washroom will be onsite.\n \nAnita O’Brien will h
 ost the second event in Leeds County on Saturday, June 24, where the f
 ocus will be on water systems, followed by Birgit Martin hosting the f
 inal field day on Manitoulin Island on Saturday, August 12 where atten
 dees will learn about carrying capacity.  More details on the agendas
  for these walks are coming soon!\n \nThese pasture walks are registe
 red Knowledge Sharing Events (KSE) for On-Farm Climate Action Fund (OF
 CAF).\n\nFor more information visit https://ontag.farms.com/events/rot
 ational-grazing-pasture-walks
DTSTART;TZID=Pacific/Midway:20230617T080000
DTEND;TZID=Pacific/Midway:20230812T150000
CATEGORIES:pasture, walk
LOCATION:Grey, Leeds, Manitoulin
WEBSITE:https://onforagenetwork.ca/event/rotation-grazing-pasture-walk
 s/
URL:https://onforagenetwork.ca/event/rotation-grazing-pasture-walks/
CONTACT:
ORGANIZER;CN="Ontario Forage Council":https://ontag.farms.com/profile/
 OntarioForageCouncil403
ATTACH;FMTTYPE="image/jpeg":https://storage.ning.com/topology/rest/1.0
 /file/get/11137222279?profile=original
ATTENDEE;ROLE=REQ-PARTICIPANT;PARTSTAT=ACCEPTED;RSVP=TRUE;CN="Ontario 
 Forage Council":https://ontag.farms.com/profile/OntarioForageCouncil40
 3
END:VEVENT
END:VCALENDAR
