BEGIN:VCALENDAR
PRODID:NingEventWidget-v1
VERSION:2.0
METHOD:PUBLISH
BEGIN:VTIMEZONE
TZID:Pacific/Midway
X-LIC-LOCATION:Pacific/Midway
BEGIN:STANDARD
TZOFFSETFROM:-1100
TZOFFSETTO:-1100
TZNAME:SST
DTSTART:19700101T000000
END:STANDARD
END:VTIMEZONE
BEGIN:VEVENT
UID:3646443:Event:109558
DTSTAMP:20260422T111516Z
SUMMARY:Royal Agricultural Winter Fair
DESCRIPTION:The 100th Anniversary of The Royal Agricultural Winter Fai
 r takes place November 4-13, 2022 at Exhibition Place, Toronto.\r\nThe
  Royal is the largest combined indoor agricultural fair and internatio
 nal equestrian competition in the world. It is where Canadian and inte
 rnational breeders, growers and exhibitors are declared champions and 
 where hundreds of thousands of attendees come to learn, compete, shop 
 and have a great time with friends and family.\r\nThe Royal Agricultur
 al Winter Fair takes place every November in the City of Toronto. Come
  celebrate the best in agriculture, local food, and equestrian competi
 tions from across the country.\r\nSubscribe for updates\r\n\n\nFor mor
 e information visit https://ontag.farms.com/events/royal-agricultural-
 winter-fair-1
DTSTART;TZID=Pacific/Midway:20221104T130000
DTEND;TZID=Pacific/Midway:20221113T190000
CATEGORIES:agricultural, fair
LOCATION:Exhibition Place
WEBSITE:https://www.royalfair.org/
URL:https://www.royalfair.org/
CONTACT:(416) 263 3400
ORGANIZER:The Royal Agricultural Winter Fair
ATTACH;FMTTYPE="image/jpeg":https://storage.ning.com/topology/rest/1.0
 /file/get/10143448287?profile=original
ATTENDEE;ROLE=REQ-PARTICIPANT;PARTSTAT=ACCEPTED;RSVP=TRUE;CN="OntAG Ad
 min":https://ontag.farms.com/profile/OntAGAdmin
END:VEVENT
END:VCALENDAR
