BEGIN:VCALENDAR
PRODID:NingEventWidget-v1
VERSION:2.0
METHOD:PUBLISH
BEGIN:VTIMEZONE
TZID:Pacific/Midway
X-LIC-LOCATION:Pacific/Midway
BEGIN:STANDARD
TZOFFSETFROM:-1100
TZOFFSETTO:-1100
TZNAME:SST
DTSTART:19700101T000000
END:STANDARD
END:VTIMEZONE
BEGIN:VEVENT
UID:3646443:Event:78752
DTSTAMP:20260420T223716Z
SUMMARY:Rainy River Valley Agricultural Fall Fair
DESCRIPTION:Anyone wishing to purchase a membership or obtain books an
 d tags may do so at the Fairgrounds Office. Entries for ALL exhibits w
 ill be received at the Exhibition Hall on Wednesday, August 12th from 
 4:00 to 8:00 pm only.\r\nRRVAS requires workers for the Fair. Gates, E
 xhibition Hall, and Parking Attendants please call Laura Haglin at 487
 -1888.  Advance midway tickets are on sale at the above locations unti
 l Wednesday evening August 12th then at the fair office until Thursday
  evening August 13th - $28.00 a savings of $5.00.\r\nGate admission is
  $3.00 per person per day. You do not need advanced midway tickets to 
 enter the fairgrounds. You can pay your $3.00 admission at the gate.  
 More details on website\n\nFor more information visit https://ontag.fa
 rms.com/events/search-results-web-results-rainy-river-valley-agricultu
 ral-fall-f
DTSTART;TZID=Pacific/Midway:20200813T090000
DTEND;TZID=Pacific/Midway:20200815T190000
CATEGORIES:fair
LOCATION:Rainy River Valley Agricultural Society exhibition center
WEBSITE:http://www.emofair.com/
URL:http://www.emofair.com/
CONTACT:(807) 487-1888.
ORGANIZER:Rainy River Valley Agricultural Society
ATTACH;FMTTYPE="image/jpeg":
ATTENDEE;ROLE=REQ-PARTICIPANT;PARTSTAT=ACCEPTED;RSVP=TRUE;CN="OntAG Ad
 min":https://ontag.farms.com/profile/OntAGAdmin
END:VEVENT
END:VCALENDAR
