BEGIN:VCALENDAR
PRODID:NingEventWidget-v1
VERSION:2.0
METHOD:PUBLISH
BEGIN:VTIMEZONE
TZID:Pacific/Midway
X-LIC-LOCATION:Pacific/Midway
BEGIN:STANDARD
TZOFFSETFROM:-1100
TZOFFSETTO:-1100
TZNAME:SST
DTSTART:19700101T000000
END:STANDARD
END:VTIMEZONE
BEGIN:VEVENT
UID:3646443:Event:113481
DTSTAMP:20260420T024232Z
SUMMARY:Setting Calves up for Success: Building Quality Along the Cow-
 Calf, Backgrounding, and Feedlot Continuum
DESCRIPTION:Morning segment will include discussion on building calf q
 uality and feedlot preparedness as well as targets for backgrounding c
 attle. The afternoon session will be held on farm at Tupling Farms. Th
 is is a feedlot producer who buys Ontario calves and will speak to wha
 t he looks for when purchasing.\nPresented by: Megan Van Schaik & Jame
 s Byrne, both Beef Specialists at OMAFRA, and Bert Tupling, owner of T
 upling Farms\nWednesday February 14th, 2024, 10:00 am - 5:00 pm. Morni
 ng at Grey Ag Services, afternoon at Tupling Farms. $40, includes lunc
 h. Registration is required.\nFind more info at: https://www.greyagser
 vices.ca/courses-webinars info@greyagservices.ca 519-986-3756\n\nFor m
 ore information visit https://ontag.farms.com/events/setting-calves-up
 -for-success-building-quality-along-the-cow-calf
DTSTART;TZID=Pacific/Midway:20240214T100000
DTEND;TZID=Pacific/Midway:20240214T170000
CATEGORIES:workshop
LOCATION:Grey Ag Services
WEBSITE:https://www.greyagservices.ca/
URL:https://www.greyagservices.ca/
CONTACT:5199863756
ORGANIZER:Grey Ag Services
ATTACH;FMTTYPE="image/jpeg":https://storage.ning.com/topology/rest/1.0
 /file/get/12365478861?profile=original
ATTENDEE;ROLE=REQ-PARTICIPANT;PARTSTAT=ACCEPTED;RSVP=TRUE;CN="Grey Bru
 ce Farmers' Week":https://ontag.farms.com/profile/GreyBruceFarmersWeek
END:VEVENT
END:VCALENDAR
