BEGIN:VCALENDAR
PRODID:NingEventWidget-v1
VERSION:2.0
METHOD:PUBLISH
BEGIN:VTIMEZONE
TZID:Pacific/Midway
X-LIC-LOCATION:Pacific/Midway
BEGIN:STANDARD
TZOFFSETFROM:-1100
TZOFFSETTO:-1100
TZNAME:SST
DTSTART:19700101T000000
END:STANDARD
END:VTIMEZONE
BEGIN:VEVENT
UID:3646443:Event:20893
DTSTAMP:20260422T073853Z
SUMMARY:Shedden Fair - August 27 - 28
DESCRIPTION:If you like a good breakfast, a demolition derby, race fea
 turing lawn tractors, livestock shows, exhibits and a midway, then the
  Shedden Fair is the place for you.\nHeld by the Shedden Agricultural 
 Society, the fair will run from August 27 - 28 this year in Shedden\n
  \nShedden Keystone Complex35921 Talbot Line, Shedden, ON N0L 2E0, Ca
 nada\n \nYou can visit their website for more infomation and classesh
 ttp://sheddenfair.villagecrierdutton.ca/index.htm\n\nFor more informat
 ion visit https://ontag.farms.com/events/shedden-fair-august-27-28
DTSTART;TZID=Pacific/Midway:20110827T000000
DTEND;TZID=Pacific/Midway:20110828T235900
CATEGORIES:county, fair
LOCATION:Shedden Keystone Complex
WEBSITE:http://maps.google.com/maps?q=Shedden+Keystone+Complex,+Shedde
 n,+Ontario,+Canada&hl=en&ll=42.742663,-81.342301&spn=0.012323,0.027852
 &sll=42.78822,-81.146564&sspn=0.012472,0.027852&z=15
URL:http://maps.google.com/maps?q=Shedden+Keystone+Complex,+Shedden,+O
 ntario,+Canada&hl=en&ll=42.742663,-81.342301&spn=0.012323,0.027852&sll
 =42.78822,-81.146564&sspn=0.012472,0.027852&z=15
CONTACT:519 - 764 - 2939
ORGANIZER:Shedden Agricultural Society
ATTACH;FMTTYPE="image/jpeg":http://storage.ning.com/topology/rest/1.0/
 file/get/1091511617?profile=original
ATTENDEE;ROLE=REQ-PARTICIPANT;PARTSTAT=ACCEPTED;RSVP=TRUE;CN="Mackenna
  Roth":https://ontag.farms.com/profile/MackennaRoth
END:VEVENT
END:VCALENDAR
