BEGIN:VCALENDAR
PRODID:NingEventWidget-v1
VERSION:2.0
METHOD:PUBLISH
BEGIN:VTIMEZONE
TZID:Pacific/Midway
X-LIC-LOCATION:Pacific/Midway
BEGIN:STANDARD
TZOFFSETFROM:-1100
TZOFFSETTO:-1100
TZNAME:SST
DTSTART:19700101T000000
END:STANDARD
END:VTIMEZONE
BEGIN:VEVENT
UID:3646443:Event:17765
DTSTAMP:20260422T122405Z
SUMMARY:Shedden Truck and Tractor Pull June 17 & 18 2011
DESCRIPTION:Friday June 17 & 18, 2011 38TH ANNUAL SHEDDEN TRUCK & TRA
 CTOR PULL,SHEDDEN KEYSTONE COMPLEX Friday Start Time 6:30 ADULTS: $15.
 00 KIDS UNDER 12 FREE Sat. June 18th Big Creek start at 2pm www.bctpa
 .caand local  ATV/RTV to follow & end the showplus a classic & custom
  car show hosted by the \" Olde \" Alymer Cruisers\nSaturday admission
  ADULTS: $5.00\n KIDS UNDER 12 FREE\nBRING YOUR LAWN CHAIRS FOLLOWING
  THE PULL LIVE ENTERTAINMENT BY: STEVE FROST & COMMON GROUND Steve Fro
 st & Common Ground is a high-energy band covering today's top country 
 hits, mixing in some classic country and rock\nGreat Lakes Truck & tra
 ctor Pullers - Super Mod 4x4, 2wd truck Empire State Pullers- Superfar
 m, Lite Superstock, Multi Engine's, Heavy SuperstockSTP- Limited Lite 
 Superstock, 2nd Super Farm Exhibition- Peter Robinson's Coyotie\n\nFor
  more information visit https://ontag.farms.com/events/shedden-truck-a
 nd-tractor-pull
DTSTART;TZID=Pacific/Midway:20110617T180000
DTEND;TZID=Pacific/Midway:20110618T190000
CATEGORIES:tractor, pull
LOCATION:Shedden Keystone Complex, Shedden Ontario
WEBSITE:http://www.sheddentruckandtractorpull.com/main/index.php
URL:http://www.sheddentruckandtractorpull.com/main/index.php
CONTACT:
ORGANIZER:
ATTACH;FMTTYPE="image/jpeg":http://storage.ning.com/topology/rest/1.0/
 file/get/1091513472?profile=original
ATTENDEE;ROLE=REQ-PARTICIPANT;PARTSTAT=ACCEPTED;RSVP=TRUE;CN="Mackenna
  Roth":https://ontag.farms.com/profile/MackennaRoth
ATTENDEE;ROLE=REQ-PARTICIPANT;PARTSTAT=TENTATIVE;RSVP=TRUE;CN="Evelien
 e Kusters":https://ontag.farms.com/profile/EvelieneKusters
END:VEVENT
END:VCALENDAR
