BEGIN:VCALENDAR
PRODID:NingEventWidget-v1
VERSION:2.0
METHOD:PUBLISH
BEGIN:VTIMEZONE
TZID:Pacific/Midway
X-LIC-LOCATION:Pacific/Midway
BEGIN:STANDARD
TZOFFSETFROM:-1100
TZOFFSETTO:-1100
TZNAME:SST
DTSTART:19700101T000000
END:STANDARD
END:VTIMEZONE
BEGIN:VEVENT
UID:3646443:Event:75167
DTSTAMP:20260422T232131Z
SUMMARY:Sheep Body Condition Scoring (Rescheduled)
DESCRIPTION:Learn a simple body condition score technique that will he
 lp you make decisions to improve sheep health and farm profitability.Â
   Using body condition scoring on your farm can improve lamb survival,
  litter size and lamb weights as well as increasing ewe longevity.  Fa
 cilitated by Delma Kennedy, Sheep Specialist, OMAFRA, and Marlene Paib
 omesai, Dairy Specialist, OMAFRA  Registration is required, go to www.
 greyagservices.ca   \n\nFor more information visit https://ontag.farms
 .com/events/sheep-body-condition-scoring-1
DTSTART;TZID=Pacific/Midway:20190211T183000
DTEND;TZID=Pacific/Midway:20190211T213000
CATEGORIES:evening, course
LOCATION:Grey County Agricultureal Service Centre
WEBSITE:http://www.grayagservices.ca
URL:http://www.grayagservices.ca
CONTACT:519-986-3756
ORGANIZER:Grey Ag Services
ATTACH;FMTTYPE="image/jpeg":https://storage.ning.com/topology/rest/1.0
 /file/get/916215597?profile=original
ATTENDEE;ROLE=REQ-PARTICIPANT;PARTSTAT=ACCEPTED;RSVP=TRUE;CN="OntAG Ad
 min":https://ontag.farms.com/profile/OntAGAdmin
END:VEVENT
END:VCALENDAR
