BEGIN:VCALENDAR
PRODID:NingEventWidget-v1
VERSION:2.0
METHOD:PUBLISH
BEGIN:VTIMEZONE
TZID:Pacific/Midway
X-LIC-LOCATION:Pacific/Midway
BEGIN:STANDARD
TZOFFSETFROM:-1100
TZOFFSETTO:-1100
TZNAME:SST
DTSTART:19700101T000000
END:STANDARD
END:VTIMEZONE
BEGIN:VEVENT
UID:3646443:Event:60640
DTSTAMP:20260420T212015Z
SUMMARY:SIAL Canada: International Food & Beverage Tradeshow
DESCRIPTION:SIAL Canada 2015 will be the country's most important agr
 i-food industry event. SIAL Canada is the only event of its size in 
 the country, bringing together more than 800 national and internation
 al exhibitors from 45 countries, all while welcoming more than 14,0
 00 buyers from Canada, the United States and 64 other countries.\nIn
  addition, SIAL Canada is the only domestic show offering up a com
 plete range of food products, all under the same roof, and in so doin
 g, meeting the needs of your clients – whether they're in retail, f
 oodservice or food processing – that are on the lookout for new in
 novative, specialty, ethnic or regional products… from right here, 
 or from across the globe.\nExpected in 2015:\n\n14,000 professional vi
 sitors\n800 exhibitors from 45 countries, including Canada\n240,000 sq
 /ft of exhibiting space (+ 10% compared to 2013 in Toronto)\n\n\nFor m
 ore information visit https://ontag.farms.com/events/sial-canada-inter
 national-food-beverage-tradeshow
DTSTART;TZID=Pacific/Midway:20150428T000000
DTEND;TZID=Pacific/Midway:20150430T235900
CATEGORIES:international, food, "&", beverage, tradeshow
LOCATION:Direct Energy Centre in Toronto
WEBSITE:https://sial.expoplanner.com/index.cfm?do=reg.flow&event_id=21
URL:https://sial.expoplanner.com/index.cfm?do=reg.flow&event_id=21
CONTACT:
ORGANIZER:SIAL Canada 2015
ATTACH;FMTTYPE="image/jpeg":http://storage.ning.com/topology/rest/1.0/
 file/get/1091538253?profile=original
ATTENDEE;ROLE=REQ-PARTICIPANT;PARTSTAT=ACCEPTED;RSVP=TRUE;CN="OntAG Ad
 min":https://ontag.farms.com/profile/OntAGAdmin
END:VEVENT
END:VCALENDAR
