BEGIN:VCALENDAR
PRODID:NingEventWidget-v1
VERSION:2.0
METHOD:PUBLISH
BEGIN:VTIMEZONE
TZID:Pacific/Midway
X-LIC-LOCATION:Pacific/Midway
BEGIN:STANDARD
TZOFFSETFROM:-1100
TZOFFSETTO:-1100
TZNAME:SST
DTSTART:19700101T000000
END:STANDARD
END:VTIMEZONE
BEGIN:VEVENT
UID:3646443:Event:102298
DTSTAMP:20260421T162910Z
SUMMARY:Small Scale Pig Production: Housing &amp; Care Basics
DESCRIPTION:Small Scale Pig Production: Housing and Care Basics. Faci
 litators: Jaydee Smith and Laura Eastwood, Swine Specialists, OMAFRA 
 \nThis course will focus on practical care and housing for small scale
  pig production. Whether you have one pig or more, this course will te
 ach you the basics of how to care for your pigs, and explore proper fe
 ncing, shelter options and pasture management. \nPlease email info@gr
 eyagservices to register\n\nFor more information visit https://ontag.f
 arms.com/events/small-scale-pig-production-housing-amp-care-basics
DTSTART;TZID=Pacific/Midway:20210210T190000
DTEND;TZID=Pacific/Midway:20210210T210000
CATEGORIES:agricultural, education, course
LOCATION:ONLINE Grey Agricultual Services Services
WEBSITE:https://www.greyagservices.ca/index.php/grey-agricultural-serv
 ices/winter-course-registration
URL:https://www.greyagservices.ca/index.php/grey-agricultural-services
 /winter-course-registration
CONTACT:5199863756
ORGANIZER:Grey County Agricultural Services
ATTACH;FMTTYPE="image/jpeg":https://storage.ning.com/topology/rest/1.0
 /file/get/8477146876?profile=original
ATTENDEE;ROLE=REQ-PARTICIPANT;PARTSTAT=ACCEPTED;RSVP=TRUE;CN="Grey Bru
 ce Farmers' Week":https://ontag.farms.com/profile/GreyBruceFarmersWeek
END:VEVENT
END:VCALENDAR
