BEGIN:VCALENDAR
PRODID:NingEventWidget-v1
VERSION:2.0
METHOD:PUBLISH
BEGIN:VTIMEZONE
TZID:Pacific/Midway
X-LIC-LOCATION:Pacific/Midway
BEGIN:STANDARD
TZOFFSETFROM:-1100
TZOFFSETTO:-1100
TZNAME:SST
DTSTART:19700101T000000
END:STANDARD
END:VTIMEZONE
BEGIN:VEVENT
UID:3646443:Event:52974
DTSTAMP:20260422T200709Z
SUMMARY:SmartAPPetite Local Food Provider Workshop
DESCRIPTION:The project is to develop an app and a website that will c
 onnect local food consumers to local farmers in an effort to support f
 arming economies. Project organizers want to talk to farmers and find 
 out if such a tool would help them and if yes, how it can help. The fi
 rst workshop is in Elgin, and farmers who live in the area are invited
  to participate.\nFarmers can register here: https://smartappetitework
 shop.eventbrite.ca \nPlease RSVP by April 1st.\nConnect via social me
 dia:\nWebsite: www.smartappetite.ca\nFacebook: www.facebook.com/smarta
 ppetite\nTwitter: www.twitter.com/SmartAPPetite\nNote: The workshop is
  FREE and light refreshments will be provided.\n\nFor more information
  visit https://ontag.farms.com/events/smartappetite-local-food-provide
 r-workshop
DTSTART;TZID=Pacific/Midway:20140410T180000
DTEND;TZID=Pacific/Midway:20140410T200000
CATEGORIES:workshop
LOCATION:The Arts & Cookery Bank
WEBSITE:https://www.eventbrite.ca/e/smartappetite-local-food-provider-
 workshop-tickets-10842635615
URL:https://www.eventbrite.ca/e/smartappetite-local-food-provider-work
 shop-tickets-10842635615
CONTACT:
ORGANIZER:The Smart APPetite Project, Western University
ATTACH;FMTTYPE="image/jpeg":http://storage.ning.com/topology/rest/1.0/
 file/get/1091522275?profile=original
ATTENDEE;ROLE=REQ-PARTICIPANT;PARTSTAT=ACCEPTED;RSVP=TRUE;CN="Amanda B
 rodhagen":https://ontag.farms.com/profile/AmandaBrodhagen
END:VEVENT
END:VCALENDAR
