BEGIN:VCALENDAR
PRODID:NingEventWidget-v1
VERSION:2.0
METHOD:PUBLISH
BEGIN:VTIMEZONE
TZID:Pacific/Midway
X-LIC-LOCATION:Pacific/Midway
BEGIN:STANDARD
TZOFFSETFROM:-1100
TZOFFSETTO:-1100
TZNAME:SST
DTSTART:19700101T000000
END:STANDARD
END:VTIMEZONE
BEGIN:VEVENT
UID:3646443:Event:78470
DTSTAMP:20260422T180556Z
SUMMARY:Soil, Climate, Profit: How Regenerative Agriculture can save t
 he World (and your farm)
DESCRIPTION:Facilitated by: Brent Preston, Ecological Farmers of Ontar
 io Board President \n$15 at the door, preregistration required.  cal
 l or email info@greyagservices.ca\n\nFor more information visit https:
 //ontag.farms.com/events/soil-climate-profit-how-regenerative-agricult
 ure-can-save-the
DTSTART;TZID=Pacific/Midway:20200127T130000
DTEND;TZID=Pacific/Midway:20200127T160000
CATEGORIES:agricultural, education, course
LOCATION:Grey Ag Services, Lower level of Grey Gables, rear entrance
WEBSITE:http://www.greyagservices.ca
URL:http://www.greyagservices.ca
CONTACT:5199863756
ORGANIZER:Grey Ag Services
ATTACH;FMTTYPE="image/jpeg":https://storage.ning.com/topology/rest/1.0
 /file/get/3831248302?profile=original
ATTENDEE;ROLE=REQ-PARTICIPANT;PARTSTAT=ACCEPTED;RSVP=TRUE;CN="Grey Bru
 ce Farmers' Week":https://ontag.farms.com/profile/GreyBruceFarmersWeek
END:VEVENT
END:VCALENDAR
