BEGIN:VCALENDAR
PRODID:NingEventWidget-v1
VERSION:2.0
METHOD:PUBLISH
BEGIN:VTIMEZONE
TZID:Pacific/Midway
X-LIC-LOCATION:Pacific/Midway
BEGIN:STANDARD
TZOFFSETFROM:-1100
TZOFFSETTO:-1100
TZNAME:SST
DTSTART:19700101T000000
END:STANDARD
END:VTIMEZONE
BEGIN:VEVENT
UID:3646443:Event:111300
DTSTAMP:20260422T100826Z
SUMMARY:Soil Fertility Workshop
DESCRIPTION:Presented by: Colin Elgie, OMAFRA. Thursday February 2nd 1
 :00 - 3:00 pm, at Grey Ag Services. Course fee: $20.00. Go to www.gre
 yagservices.ca to pre-register.\nLet’s dig into what your farm’s s
 oils hold.  Learn how to interpret soil tests from your own fields, 
 and how to use these test results to make decisions with your fertiliz
 er plan.  What effect do high fertility prices have on your plan? 
  Join in to find out.\n\nFor more information visit https://ontag.farm
 s.com/events/soil-fertility-workshop
DTSTART;TZID=Pacific/Midway:20230202T130000
DTEND;TZID=Pacific/Midway:20230202T150000
CATEGORIES:course
LOCATION:Grey Ag Services
WEBSITE:https://www.greyagservices.ca/
URL:https://www.greyagservices.ca/
CONTACT:5199863756
ORGANIZER:Grey Ag Services
ATTACH;FMTTYPE="image/jpeg":https://storage.ning.com/topology/rest/1.0
 /file/get/10949508476?profile=original
ATTENDEE;ROLE=REQ-PARTICIPANT;PARTSTAT=ACCEPTED;RSVP=TRUE;CN="Grey Bru
 ce Farmers' Week":https://ontag.farms.com/profile/GreyBruceFarmersWeek
END:VEVENT
END:VCALENDAR
