BEGIN:VCALENDAR
PRODID:NingEventWidget-v1
VERSION:2.0
METHOD:PUBLISH
BEGIN:VTIMEZONE
TZID:Pacific/Midway
X-LIC-LOCATION:Pacific/Midway
BEGIN:STANDARD
TZOFFSETFROM:-1100
TZOFFSETTO:-1100
TZNAME:SST
DTSTART:19700101T000000
END:STANDARD
END:VTIMEZONE
BEGIN:VEVENT
UID:3646443:Event:9031
DTSTAMP:20260423T033315Z
SUMMARY:Soil Test Clinics
DESCRIPTION:With Peter JohnsonBring your questions and your soil tests
 .  Focus on fertility, maximizing results, get down to the nitty grit
 ty of fertilization! . Pre-registration is required for these workshop
 s. Space is limited, and if not enough people sign up, dates may be ca
 ncelled.free to Soil & Crop Members, small fee and one year membership
  for non-membersMargaret May- mmay@ontariosoilcrop.org\n\nFor more inf
 ormation visit https://ontag.farms.com/events/soil-test-clinics-2
DTSTART;TZID=Pacific/Midway:20110314T190000
DTEND;TZID=Pacific/Midway:20110314T220000
CATEGORIES:soil, test, clinics
LOCATION:St Thomas
WEBSITE:
URL:
CONTACT:519-287-5334
ORGANIZER:
ATTACH;FMTTYPE="image/jpeg":
ATTENDEE;ROLE=REQ-PARTICIPANT;PARTSTAT=ACCEPTED;RSVP=TRUE;CN="OntAG Ad
 min":https://ontag.farms.com/profile/OntAGAdmin
END:VEVENT
END:VCALENDAR
