BEGIN:VCALENDAR
PRODID:NingEventWidget-v1
VERSION:2.0
METHOD:PUBLISH
BEGIN:VTIMEZONE
TZID:Pacific/Midway
X-LIC-LOCATION:Pacific/Midway
BEGIN:STANDARD
TZOFFSETFROM:-1100
TZOFFSETTO:-1100
TZNAME:SST
DTSTART:19700101T000000
END:STANDARD
END:VTIMEZONE
BEGIN:VEVENT
UID:3646443:Event:37288
DTSTAMP:20260423T121244Z
SUMMARY:Soil Test Workshops
DESCRIPTION:Brought to you by Ontario Soil & Crop and OMAFRA\nSoil Tes
 ts Made Simple with OMAFRA's Peter Johnson! Bring your soil tests and
  your questions! Learn how to read your soil test, and how to build, 
 maintain or reduce the levels in your fields. What matters, what doesn
 't! How to properly sample your fields, and fertilizer applications. W
 in a free soil sample kit courtesy of A&L Labs, Stratford Agri Analysi
 s and SGS Agri Food Labs \n\nFor more information visit https://ontag
 .farms.com/events/soil-test-workshops
DTSTART;TZID=Pacific/Midway:20130311T130000
DTEND;TZID=Pacific/Midway:20130315T130000
CATEGORIES:workshop
LOCATION:See website for details
WEBSITE:https://oscia.wildapricot.org/Events
URL:https://oscia.wildapricot.org/Events
CONTACT:
ORGANIZER;CN="Cathy Dibble":https://ontag.farms.com/profile/CathyDibbl
 e890
ATTACH;FMTTYPE="image/jpeg":
ATTENDEE;ROLE=REQ-PARTICIPANT;PARTSTAT=ACCEPTED;RSVP=TRUE;CN="Cathy Di
 bble":https://ontag.farms.com/profile/CathyDibble890
END:VEVENT
END:VCALENDAR
