BEGIN:VCALENDAR
PRODID:NingEventWidget-v1
VERSION:2.0
METHOD:PUBLISH
BEGIN:VTIMEZONE
TZID:Pacific/Midway
X-LIC-LOCATION:Pacific/Midway
BEGIN:STANDARD
TZOFFSETFROM:-1100
TZOFFSETTO:-1100
TZNAME:SST
DTSTART:19700101T000000
END:STANDARD
END:VTIMEZONE
BEGIN:VEVENT
UID:3646443:Event:115271
DTSTAMP:20260420T190238Z
SUMMARY:South Mountain Fair
DESCRIPTION:Experience The South Mountain Fairgrounds Mountain Towns
 hip Agricultural Society has hosted the annual community fair for 132 
 years, drawing over 10 thousand guests each 3rd weekend in August. The
  property is located in the small village of South Mountain, Ontario. 
 It also has a community hall accommodating 300 guests, with full ameni
 ties and paved parking.\n\nFor more information visit https://ontag.fa
 rms.com/events/south-mountain-fair
DTSTART;TZID=Pacific/Midway:20250814T180000
DTEND;TZID=Pacific/Midway:20250817T190000
CATEGORIES:fair
LOCATION:2967 Lough Rd, South Mountain, Ontario
WEBSITE:https://southmountainfair.ca/
URL:https://southmountainfair.ca/
CONTACT:
ORGANIZER:South Mountain Fair
ATTACH;FMTTYPE="image/jpeg":https://storage.ning.com/topology/rest/1.0
 /file/get/13565347866?profile=original
ATTENDEE;ROLE=REQ-PARTICIPANT;PARTSTAT=ACCEPTED;RSVP=TRUE;CN="OntAG Ad
 min":https://ontag.farms.com/profile/OntAGAdmin
END:VEVENT
END:VCALENDAR
