BEGIN:VCALENDAR
PRODID:NingEventWidget-v1
VERSION:2.0
METHOD:PUBLISH
BEGIN:VTIMEZONE
TZID:Pacific/Midway
X-LIC-LOCATION:Pacific/Midway
BEGIN:STANDARD
TZOFFSETFROM:-1100
TZOFFSETTO:-1100
TZNAME:SST
DTSTART:19700101T000000
END:STANDARD
END:VTIMEZONE
BEGIN:VEVENT
UID:3646443:Event:108177
DTSTAMP:20260420T080729Z
SUMMARY:South Western Ontario Dairy Symposium - 2022
DESCRIPTION:The South Western Ontario Dairy Symposium committee looks 
 forward to February 2022 with the hopes that we will have this pandemi
 c behind us. At that time the committee hopes to have an exciting prog
 ram for dairy producers and a great tradeshow for exhibitors.\r\nWe th
 ank you for your support in the past and we look forward to seeing you
  in 2022.\r\nFollow us on Twitter @SWODSdairy  or on Facebook for the
  latest information.An Interactive Event Planned by Producers for Prod
 ucersPlanned and sponsored by Dairy Farmers of Ontario, through its Da
 iry Producer Committees in Essex-Kent, Lambton, Middlesex, Elgin, Huro
 n, Perth, Oxford, Waterloo, Wellington, Brant, Norfolk, Wentworth, Hal
 dimand and Niagara, in cooperation with the Ontario Ministry of Agricu
 lture, Food, and Rural Affairs.\n\nFor more information visit https://
 ontag.farms.com/events/south-western-ontario-dairy-symposium-2022
DTSTART;TZID=Pacific/Midway:20220224T090000
DTEND;TZID=Pacific/Midway:20220224T170000
CATEGORIES:dairy, symposium
LOCATION:875 Nellis St
WEBSITE:https://dairysymposium.com/
URL:https://dairysymposium.com/
CONTACT:+1519-655-2865
ORGANIZER:Southwestern Ontario Dairy Symposium
ATTACH;FMTTYPE="image/jpeg":
ATTENDEE;ROLE=REQ-PARTICIPANT;PARTSTAT=ACCEPTED;RSVP=TRUE;CN="OntAG Ad
 min":https://ontag.farms.com/profile/OntAGAdmin
END:VEVENT
END:VCALENDAR
