BEGIN:VCALENDAR
PRODID:NingEventWidget-v1
VERSION:2.0
METHOD:PUBLISH
BEGIN:VTIMEZONE
TZID:Pacific/Midway
X-LIC-LOCATION:Pacific/Midway
BEGIN:STANDARD
TZOFFSETFROM:-1100
TZOFFSETTO:-1100
TZNAME:SST
DTSTART:19700101T000000
END:STANDARD
END:VTIMEZONE
BEGIN:VEVENT
UID:3646443:Event:111525
DTSTAMP:20260419T031032Z
SUMMARY:South Western Ontario Pork Conference (SWOPC)
DESCRIPTION:The 59th Annual South Western Ontario Pork Conference will
  return to their In-Person conference on Wednesday February 22, 2023.Â
  \r\n\r\nRegistration details \r\nCurtis Mikel, teacher, and researche
 r at the Ridgetown Campus, is offering tours of the campus swine barn 
 from 12:30 to 2:00 p.m. The barn is now in its fourth year of producti
 on.  This yearâ€™s speaker program is sure to be of interest to all wh
 o attend. We have two producers speaking about their operations, Ryan 
 Martin, and Ronald Van de Bruinhorst. We are excited to have Chantal F
 armer, research scientist in swine lactation biology from Agriculture 
 and Agri-Food Canada, Quebec. The Local Health Update will be presente
 d by Dr. Ryan Tenbergen from Demeter Veterinary Services PC. After din
 ner, we are pleased to have Dr. John Patience, professor emeritus and 
 global leader in swine nutrition education and researchAgenda:\r\n12:3
 0 - 2:00 p.m. - Campus Swine Barn Tour\r\n2:00 - 4:00 p.m. - Registrat
 ion, Trade Show & Refreshments in RDC GymnasiumÂ \r\n4:00 - 4:10 p.m. 
 - Conference Welcome: RDC Gymnasium\r\n4:10 - 4:55 p.m. - Ryan Martin,
  Producer Profile, Chatsworth, ON\r\n4:55 - 5:50 p.m. - Chantal Farmer
 , Research scientist from Agriculture and Agri-Food Canada, Quebec\r\n
 5:50 - 6:10 p.m. - Ryan Tenbergen, Demeter Veterinary Services PC, Loc
 al Health Update\r\n6:20 - 7:20 p.m. - Delicious Pork Loin Dinner\r\n7
 :30 - 8:30 p.m. - Dr. John Patience, Professor Emeritus Iowa State Uni
 versity and global leader in swine nutrition education and research\r\
 n\n\nFor more information visit https://ontag.farms.com/events/south-w
 estern-ontario-pork-conference-swopc
DTSTART;TZID=Pacific/Midway:20230222T003000
DTEND;TZID=Pacific/Midway:20230222T203000
CATEGORIES:conference
LOCATION:University of Guelph Ridgetown Campus
WEBSITE:https://bdc.ridgetownc.com/useservices/conferencemanagement/so
 uth-western-ontario-pork-conference/
URL:https://bdc.ridgetownc.com/useservices/conferencemanagement/south-
 western-ontario-pork-conference/
CONTACT:
ORGANIZER:University of Guelph
ATTACH;FMTTYPE="image/jpeg":https://storage.ning.com/topology/rest/1.0
 /file/get/10967328281?profile=original
ATTENDEE;ROLE=REQ-PARTICIPANT;PARTSTAT=ACCEPTED;RSVP=TRUE;CN="OntAG Ad
 min":https://ontag.farms.com/profile/OntAGAdmin
END:VEVENT
END:VCALENDAR
