BEGIN:VCALENDAR
PRODID:NingEventWidget-v1
VERSION:2.0
METHOD:PUBLISH
BEGIN:VTIMEZONE
TZID:Pacific/Midway
X-LIC-LOCATION:Pacific/Midway
BEGIN:STANDARD
TZOFFSETFROM:-1100
TZOFFSETTO:-1100
TZNAME:SST
DTSTART:19700101T000000
END:STANDARD
END:VTIMEZONE
BEGIN:VEVENT
UID:3646443:Event:31657
DTSTAMP:20260422T020537Z
SUMMARY:Southbrook Farms & Pumpkin Patch
DESCRIPTION:Pony Rides & Petty Zoo come to Southbrook Farms. Fun begi
 ns weekend of Saturday September 29th & 30th, 2012 and every weekend i
 n October.  Be sure to join us. We will have Wagon Rides, Children's 
 Carnival Amusement Rides & Games, Face Painting, Maze, Playground, Wa
 lking Trails and BBQ Husked Corn.  Fresh Baked Pies and goodies in o
 ur Bakery. Free samples Homemade Fudge and Natural Honey!  Open Daily
  10-6. Open Thanksgiving Monday. \nReminder: Pre-Order your Thanksgiv
 ing Pies early to avoid line-ups.  Call (905) 832-2548.\n \n\nFor m
 ore information visit https://ontag.farms.com/events/southbrook-farms-
 pumpkin-patch
DTSTART;TZID=Pacific/Midway:20120929T000000
DTEND;TZID=Pacific/Midway:20121028T235900
CATEGORIES:family, "fun!"
LOCATION:\"Southbrook Farms\"
WEBSITE:http://www.southbrookpumpkinpatch.com/
URL:http://www.southbrookpumpkinpatch.com/
CONTACT:(905) 832-2548
ORGANIZER;CN="Southbrook Farms":https://ontag.farms.com/profile/CathyC
 hiappetta
ATTACH;FMTTYPE="image/jpeg":http://storage.ning.com/topology/rest/1.0/
 file/get/1091515965?profile=original
ATTENDEE;ROLE=REQ-PARTICIPANT;PARTSTAT=ACCEPTED;RSVP=TRUE;CN="Southbro
 ok Farms":https://ontag.farms.com/profile/CathyChiappetta
END:VEVENT
END:VCALENDAR
