BEGIN:VCALENDAR
PRODID:NingEventWidget-v1
VERSION:2.0
METHOD:PUBLISH
BEGIN:VTIMEZONE
TZID:Pacific/Midway
X-LIC-LOCATION:Pacific/Midway
BEGIN:STANDARD
TZOFFSETFROM:-1100
TZOFFSETTO:-1100
TZNAME:SST
DTSTART:19700101T000000
END:STANDARD
END:VTIMEZONE
BEGIN:VEVENT
UID:3646443:Event:77482
DTSTAMP:20260420T213208Z
SUMMARY:SouthPoint Equipment - Grand opening event
DESCRIPTION:You’re invited to SouthPoint Equipment’s Grand Opening
  for their new Wyoming location!  Lunch will be provided.\r\n See even
 t schedule below:   Friday, October 4th Open House - 10am to 4pm Ribb
 on Cutting Ceremony - 11am Saturday, October 5th Open House - 8am to 2
 pm\r\n\r\n\n\nFor more information visit https://ontag.farms.com/event
 s/southpoint-equipment-grand-opening-event
DTSTART;TZID=Pacific/Midway:20191004T100000
DTEND;TZID=Pacific/Midway:20191005T140000
CATEGORIES:opening, ceremony
LOCATION:Southpoint Equipment
WEBSITE:https://southpointeq.ca/en
URL:https://southpointeq.ca/en
CONTACT:519-845-0202
ORGANIZER:southpoint equipment
ATTACH;FMTTYPE="image/jpeg":https://storage.ning.com/topology/rest/1.0
 /file/get/3638824419?profile=original
ATTENDEE;ROLE=REQ-PARTICIPANT;PARTSTAT=ACCEPTED;RSVP=TRUE;CN="OntAG Ad
 min":https://ontag.farms.com/profile/OntAGAdmin
END:VEVENT
END:VCALENDAR
