BEGIN:VCALENDAR
PRODID:NingEventWidget-v1
VERSION:2.0
METHOD:PUBLISH
BEGIN:VTIMEZONE
TZID:Pacific/Midway
X-LIC-LOCATION:Pacific/Midway
BEGIN:STANDARD
TZOFFSETFROM:-1100
TZOFFSETTO:-1100
TZNAME:SST
DTSTART:19700101T000000
END:STANDARD
END:VTIMEZONE
BEGIN:VEVENT
UID:3646443:Event:28398
DTSTAMP:20260422T062101Z
SUMMARY:Southwest Ag Conference January 2012
DESCRIPTION:Featured Speakers\n Dr. Patrick Moore - The Sensible Envir
 onmentalist\nand\nMichele Payn-Knoper, CSP - Celebrating Agriculture\n
 Program Agenda for 2012\nAgenda\n\nPDF VersionÂ 913KÂ \n\nConference B
 rochure\n\nPDF VersionÂ 2.8MÂ \n\nSignup Forms\n\nPrint/Fax/Mail FormÂ
  149K PDFÂ \nOnline Registration\n\nÂ \n\nFor more information visit h
 ttps://ontag.farms.com/events/southwest-ag-conference-january-2012
DTSTART;TZID=Pacific/Midway:20120104T000000
DTEND;TZID=Pacific/Midway:20120105T235900
CATEGORIES:conference
LOCATION:University of Guelph Ridgetown Campus
WEBSITE:http://www.southwestagconference.ca/
URL:http://www.southwestagconference.ca/
CONTACT:
ORGANIZER:OMAFRA, OSCIA, U of G Ridgetown Campus
ATTACH;FMTTYPE="image/jpeg":http://storage.ning.com/topology/rest/1.0/
 file/get/1091513485?profile=original
ATTENDEE;ROLE=REQ-PARTICIPANT;PARTSTAT=ACCEPTED;RSVP=TRUE;CN="OntAG Ad
 min":https://ontag.farms.com/profile/OntAGAdmin
ATTENDEE;ROLE=REQ-PARTICIPANT;PARTSTAT=TENTATIVE;RSVP=TRUE;CN="Richard
  Hamilton":https://ontag.farms.com/profile/RichardHamilton
END:VEVENT
END:VCALENDAR
