BEGIN:VCALENDAR
PRODID:NingEventWidget-v1
VERSION:2.0
METHOD:PUBLISH
BEGIN:VTIMEZONE
TZID:Pacific/Midway
X-LIC-LOCATION:Pacific/Midway
BEGIN:STANDARD
TZOFFSETFROM:-1100
TZOFFSETTO:-1100
TZNAME:SST
DTSTART:19700101T000000
END:STANDARD
END:VTIMEZONE
BEGIN:VEVENT
UID:3646443:Event:7343
DTSTAMP:20260421T122643Z
SUMMARY:Southwest Agricultural Conference - Ridgetown
DESCRIPTION:The Southwest Soil and Crop Improvement Associations and O
 ntario Ministry of Agriculture, Food and Rural Affairs present the\n18
 th Annual Southwest Agricultural Conference\nHarvesting Success from R
 esearch & Innovation\n\nThe 18th Annual Southwest Ag Conference brochu
 re is now availble for online viewing - click here..\n\nFor more infor
 mation visit https://ontag.farms.com/events/southwest-agricultural-1
DTSTART;TZID=Pacific/Midway:20110105T000000
DTEND;TZID=Pacific/Midway:20110106T235900
CATEGORIES:conference
LOCATION:University of Guelph Ridgetown Campus
WEBSITE:http://www.southwestagconference.ca
URL:http://www.southwestagconference.ca
CONTACT:519-674-1500 x1596 or 1-866-222-9682
ORGANIZER:Southwest Agricultural Conference
ATTACH;FMTTYPE="image/jpeg":
ATTENDEE;ROLE=REQ-PARTICIPANT;PARTSTAT=ACCEPTED;RSVP=TRUE;CN="Pete Geo
 rge Sereda":https://ontag.farms.com/profile/PeteGeorgeSereda
ATTENDEE;ROLE=REQ-PARTICIPANT;PARTSTAT=ACCEPTED;RSVP=TRUE;CN="OntAG Ad
 min":https://ontag.farms.com/profile/OntAGAdmin
ATTENDEE;ROLE=REQ-PARTICIPANT;PARTSTAT=TENTATIVE;RSVP=TRUE;CN="Richard
  Hamilton":https://ontag.farms.com/profile/RichardHamilton
END:VEVENT
END:VCALENDAR
