BEGIN:VCALENDAR
PRODID:NingEventWidget-v1
VERSION:2.0
METHOD:PUBLISH
BEGIN:VTIMEZONE
TZID:Pacific/Midway
X-LIC-LOCATION:Pacific/Midway
BEGIN:STANDARD
TZOFFSETFROM:-1100
TZOFFSETTO:-1100
TZNAME:SST
DTSTART:19700101T000000
END:STANDARD
END:VTIMEZONE
BEGIN:VEVENT
UID:3646443:Event:57502
DTSTAMP:20260421T235935Z
SUMMARY:Southwest Agricultural Conference
DESCRIPTION:SOUTHWEST AGRICULTURAL CONFERENCE  Tuesday, January 6th & 
 Wednesday, January 7th, 2015\nWe are currently wworking at completing 
 our Speaker and Session listings and will post to website when confirm
 ed\n\n \nRegistration\n\nRegistration will open November 3, 2014 and 
 will close December 22, 2014.  Please remember that there will be NO
  DOOR registration at the 2015 Conference, so register early to avoid
  disappointment. Register by mail, phone, fax or use our 24 hour - Onl
 ine registration all opening November 3, 2014 \nWatch the November 18
 th issue of the Ontario Farmer for your copy of the 2015 Southwest Con
 ference Brochure or watch the website for the session brochure.\n\nFor
  more information visit https://ontag.farms.com/events/southwest-agric
 ultural-conference-2
DTSTART;TZID=Pacific/Midway:20150106T000000
DTEND;TZID=Pacific/Midway:20150107T235900
CATEGORIES:agricultural, conference
LOCATION:University of Guelph Ridgetown Campus
WEBSITE:http://www.southwestagconference.ca/
URL:http://www.southwestagconference.ca/
CONTACT:
ORGANIZER:University of Guelph
ATTACH;FMTTYPE="image/jpeg":http://storage.ning.com/topology/rest/1.0/
 file/get/1091529219?profile=original
ATTENDEE;ROLE=REQ-PARTICIPANT;PARTSTAT=ACCEPTED;RSVP=TRUE;CN="OntAG Ad
 min":https://ontag.farms.com/profile/OntAGAdmin
END:VEVENT
END:VCALENDAR
