BEGIN:VCALENDAR
PRODID:NingEventWidget-v1
VERSION:2.0
METHOD:PUBLISH
BEGIN:VTIMEZONE
TZID:Pacific/Midway
X-LIC-LOCATION:Pacific/Midway
BEGIN:STANDARD
TZOFFSETFROM:-1100
TZOFFSETTO:-1100
TZNAME:SST
DTSTART:19700101T000000
END:STANDARD
END:VTIMEZONE
BEGIN:VEVENT
UID:3646443:Event:76889
DTSTAMP:20260419T020144Z
SUMMARY:SouthWest Agricultural Conference - 2020 AG VISION
DESCRIPTION:Located at the University of Guelph Ridgetown Campus in Ri
 dgetown, Ontario, SWAC offers two days of dynamic speakers and industr
 y leading agricultural experts to provide leading information to meet 
 today’s agricultural challenges along with a trade show with over 70
  booth spaces.\r\nWhat's Included With On-Site Registration?\r\n\r\nA 
 boxed or buffet lunch specified at the time of registration\r\nConfere
 nce workbook\r\nEntrance to all sessions and events on day of registra
 tion\r\nExclusive SWAC – Country Guide Magazine Offer All day refres
 hments\r\nTaste Ontario Reception with registration for Day One \r\n\r
 \nMake sure to check out the Conference registration incentives and di
 scounts.\n\nFor more information visit https://ontag.farms.com/events/
 southwest-agricultural-conference-2020-ag-vision
DTSTART;TZID=Pacific/Midway:20200107T080000
DTEND;TZID=Pacific/Midway:20200108T170000
CATEGORIES:conference
LOCATION:Ag Business Centre, University of Guelph Ridgetown Campus
WEBSITE:https://www.southwestagconference.ca/
URL:https://www.southwestagconference.ca/
CONTACT:519-674-1500 x63596 and 1-866-222-9682
ORGANIZER:SouthWest Agricultural Conference
ATTACH;FMTTYPE="image/jpeg":
ATTENDEE;ROLE=REQ-PARTICIPANT;PARTSTAT=ACCEPTED;RSVP=TRUE;CN="OntAG Ad
 min":https://ontag.farms.com/profile/OntAGAdmin
END:VEVENT
END:VCALENDAR
