BEGIN:VCALENDAR
PRODID:NingEventWidget-v1
VERSION:2.0
METHOD:PUBLISH
BEGIN:VTIMEZONE
TZID:Pacific/Midway
X-LIC-LOCATION:Pacific/Midway
BEGIN:STANDARD
TZOFFSETFROM:-1100
TZOFFSETTO:-1100
TZNAME:SST
DTSTART:19700101T000000
END:STANDARD
END:VTIMEZONE
BEGIN:VEVENT
UID:3646443:Event:72168
DTSTAMP:20260423T181009Z
SUMMARY:SOUTHWEST AGRICULTURAL CONFERENCE
DESCRIPTION:Located at the University of Guelph Ridgetown Campus in Ri
 dgetown, Ontario, SWAC offers two days of dynamic speakers and industr
 y leading agricultural experts to provide leading information to meet 
 today’s agricultural challenges along with a trade show with over 70
  booth spaces.\r\nWhat's Included With On-Site Registration?\r\n\r\n\r
 \nA boxed or buffet lunch specified at the time of registration\r\nCon
 ference workbook\r\nEntrance to all sessions and events on day of regi
 stration\r\nExclusive SWAC – Country Guide Magazine Offer\r\nAll day
  refreshments\r\nTaste Ontario Reception with registration for Day One
 \r\n\r\n\r\nMake sure to check out the Conference registration incenti
 ves and discounts.\n\nFor more information visit https://ontag.farms.c
 om/events/southwest-agricultural-conference-5
DTSTART;TZID=Pacific/Midway:20180103T090000
DTEND;TZID=Pacific/Midway:20180104T160000
CATEGORIES:conferance
LOCATION:University of Guelph Ridgetown Campus
WEBSITE:https://www.southwestagconference.ca/
URL:https://www.southwestagconference.ca/
CONTACT:519-674-1500 x63596 or 1-866-222-9682
ORGANIZER;CN="OntAG Admin":https://ontag.farms.com/profile/OntAGAdmin
ATTACH;FMTTYPE="image/jpeg":
ATTENDEE;ROLE=REQ-PARTICIPANT;PARTSTAT=ACCEPTED;RSVP=TRUE;CN="OntAG Ad
 min":https://ontag.farms.com/profile/OntAGAdmin
END:VEVENT
END:VCALENDAR
