BEGIN:VCALENDAR
PRODID:NingEventWidget-v1
VERSION:2.0
METHOD:PUBLISH
BEGIN:VTIMEZONE
TZID:Pacific/Midway
X-LIC-LOCATION:Pacific/Midway
BEGIN:STANDARD
TZOFFSETFROM:-1100
TZOFFSETTO:-1100
TZNAME:SST
DTSTART:19700101T000000
END:STANDARD
END:VTIMEZONE
BEGIN:VEVENT
UID:3646443:Event:69071
DTSTAMP:20260421T165259Z
SUMMARY:Southwest Crop Diagnostic Day
DESCRIPTION:A co-operative effort between Ontario Ministry of Agricult
 ure, Food and Rural Affairs, University of Guelph Ridgetown Campus, an
 d Southwest Soil and Crop Improvement Associations. Visit the website 
 for all the program details, registration, sponsors, etc.Contact: 519-
 674-1690 for General Enquiriesand/or 1-866-222-9682 for Registration E
 nquiriesWebsite: www.diagnosticdays.ca\n\nFor more information visit 
 https://ontag.farms.com/events/southwest-crop-diagnostic-day-3
DTSTART;TZID=Pacific/Midway:20170705T084500
DTEND;TZID=Pacific/Midway:20170706T170000
CATEGORIES:crop, diagnostic, day
LOCATION:University of Guelph,s.
WEBSITE:http://www.diagnosticdays.ca
URL:http://www.diagnosticdays.ca
CONTACT:519-674-1690 for General Enquiries and/or 1-866-222-9682 for R
 egistration Enquiries
ORGANIZER;CN="OntAG Admin":https://ontag.farms.com/profile/OntAGAdmin
ATTACH;FMTTYPE="image/jpeg":
ATTENDEE;ROLE=REQ-PARTICIPANT;PARTSTAT=ACCEPTED;RSVP=TRUE;CN="OntAG Ad
 min":https://ontag.farms.com/profile/OntAGAdmin
END:VEVENT
END:VCALENDAR
