BEGIN:VCALENDAR
PRODID:NingEventWidget-v1
VERSION:2.0
METHOD:PUBLISH
BEGIN:VTIMEZONE
TZID:Pacific/Midway
X-LIC-LOCATION:Pacific/Midway
BEGIN:STANDARD
TZOFFSETFROM:-1100
TZOFFSETTO:-1100
TZNAME:SST
DTSTART:19700101T000000
END:STANDARD
END:VTIMEZONE
BEGIN:VEVENT
UID:3646443:Event:18463
DTSTAMP:20260423T113947Z
SUMMARY:SouthWest Crop Diagnostic Day
DESCRIPTION:\nThe 17th Annual Diagnostic Day is an event that highligh
 ts current topics of interest. The goal of the day is to provide quali
 ty, state-of-the-art training in all aspects of crop production and ma
 nagement.\n\nThe Diagnostic Day is designed specifically to improve th
 e problem solving skills of seed, fertilizer and chemical industry per
 sonnel and agricultural consultants.\n\n\nThe SouthWest Crop Diagnosti
 c Day provides agribusiness personnel with \"hands-on\" learning exper
 iences to assist in the correct identification and treatment of crop p
 roblems common to southern Ontario. The program provides a \"real-worl
 d\" environment where agriculturists can hone their crop trouble-shoot
 ing skills and evaluate new and alternative management strategies.\n 
 \n\n\n\n\nFor more information visit the website.\n\nFor more informat
 ion visit https://ontag.farms.com/events/southwest-crop-diagnostic-day
DTSTART;TZID=Pacific/Midway:20110706T000000
DTEND;TZID=Pacific/Midway:20110707T235900
CATEGORIES:southwest, crop, diagnostic, day
LOCATION:University of Guelph Ridgetown Campus
WEBSITE:http://www.diagnosticdays.ca/
URL:http://www.diagnosticdays.ca/
CONTACT:
ORGANIZER:OMAFRA and U of Guelph Ridgetown
ATTACH;FMTTYPE="image/jpeg":http://storage.ning.com/topology/rest/1.0/
 file/get/1091514345?profile=original
ATTENDEE;ROLE=REQ-PARTICIPANT;PARTSTAT=ACCEPTED;RSVP=TRUE;CN="OntAG Ad
 min":https://ontag.farms.com/profile/OntAGAdmin
ATTENDEE;ROLE=REQ-PARTICIPANT;PARTSTAT=TENTATIVE;RSVP=TRUE;CN="Richard
  Hamilton":https://ontag.farms.com/profile/RichardHamilton
END:VEVENT
END:VCALENDAR
