BEGIN:VCALENDAR
PRODID:NingEventWidget-v1
VERSION:2.0
METHOD:PUBLISH
BEGIN:VTIMEZONE
TZID:Pacific/Midway
X-LIC-LOCATION:Pacific/Midway
BEGIN:STANDARD
TZOFFSETFROM:-1100
TZOFFSETTO:-1100
TZNAME:SST
DTSTART:19700101T000000
END:STANDARD
END:VTIMEZONE
BEGIN:VEVENT
UID:3646443:Event:10469
DTSTAMP:20260423T185458Z
SUMMARY:Southwest Ontario Local Food Connection: Farmer / Food Buyer N
 etworking Event
DESCRIPTION:Join Southwest Ontario Local Food Connection as we present
  the 3rd annual Farmer/Food Buyer Networking Event. This event provide
 s the opportunity for cooks and chefs, food retailers, food service, i
 nstitutional food providers, food processors and food distributors to 
 meet and develop business relationships with local farmers and produce
 rs.Â  Cost:Â Free of Charge (This event is NOT open to the public.)\nP
 lease Note: Space is limited, therefore, availability will be on a fir
 st come first served basis. Registration deadline: Tuesday, March 22nd
 , 2011\nTo Register Contact: Karen Eatwell â€“ National Farmers UnionÂ
   Email: kareneatwell@execulink.com / Tel: 519-232-9638 or 1-888-832-9
 638Â  www.southwestontariolocalfoodconnection.ca/farmer_buyer_networki
 ng.html\nÂ \n\nFor more information visit https://ontag.farms.com/even
 ts/southwest-ontario-local-food
DTSTART;TZID=Pacific/Midway:20110329T120000
DTEND;TZID=Pacific/Midway:20110329T170000
CATEGORIES:farmer, "/food", buyer, networking, event
LOCATION:Western Fair Farmersâ€™ & Artisansâ€™ Market
WEBSITE:http://www.southwestontariolocalfoodconnection.ca/farmer_buyer
 _networking.html
URL:http://www.southwestontariolocalfoodconnection.ca/farmer_buyer_net
 working.html
CONTACT:519-232-9638 or 1-888-832-9638
ORGANIZER:Karen Eatwell
ATTACH;FMTTYPE="image/jpeg":
ATTENDEE;ROLE=REQ-PARTICIPANT;PARTSTAT=ACCEPTED;RSVP=TRUE;CN=MFA:https
 ://ontag.farms.com/profile/MiddlesexFederationofAgricult
ATTENDEE;ROLE=REQ-PARTICIPANT;PARTSTAT=ACCEPTED;RSVP=TRUE;CN="Valerie 
 Clark":https://ontag.farms.com/profile/ValerieClark
END:VEVENT
END:VCALENDAR
