BEGIN:VCALENDAR
PRODID:NingEventWidget-v1
VERSION:2.0
METHOD:PUBLISH
BEGIN:VTIMEZONE
TZID:Pacific/Midway
X-LIC-LOCATION:Pacific/Midway
BEGIN:STANDARD
TZOFFSETFROM:-1100
TZOFFSETTO:-1100
TZNAME:SST
DTSTART:19700101T000000
END:STANDARD
END:VTIMEZONE
BEGIN:VEVENT
UID:3646443:Event:18268
DTSTAMP:20260420T212819Z
SUMMARY:Soybean Workshop: \"Finding Opportunities on Your Farm and in 
 the Community\"
DESCRIPTION:A hands-on workshop for you to explore the value of your s
 oybean crop--discover ways of adding value to your soybeans during thi
 s interactive two-day workshop. You’ll learn about options for proce
 ssing soybeans on farm, including oil extraction, roasting, feed and f
 uel applications. Cost: Two-day course - $325, prior to June 13, $450 
 after; One-day course - $180 prior to June 13, $250 after. Register on
 line at www.cigi.ca and click on the link under the Open Enrollment Co
 urses.\n\nFor more information visit https://ontag.farms.com/events/so
 ybean-workshop-finding
DTSTART;TZID=Pacific/Midway:20110621T083000
DTEND;TZID=Pacific/Midway:20110622T163000
CATEGORIES:education, workshop
LOCATION:University of Guelph Ridgetown Campus
WEBSITE:http://www.cigi.ca
URL:http://www.cigi.ca
CONTACT:204-781-7596
ORGANIZER:Canadian International Grains Institute
ATTACH;FMTTYPE="image/jpeg":
ATTENDEE;ROLE=REQ-PARTICIPANT;PARTSTAT=ACCEPTED;RSVP=TRUE;CN="Golden H
 orseshoe SCIA":https://ontag.farms.com/profile/GoldenHorseshoeSCIA
END:VEVENT
END:VCALENDAR
