BEGIN:VCALENDAR
PRODID:NingEventWidget-v1
VERSION:2.0
METHOD:PUBLISH
BEGIN:VTIMEZONE
TZID:Pacific/Midway
X-LIC-LOCATION:Pacific/Midway
BEGIN:STANDARD
TZOFFSETFROM:-1100
TZOFFSETTO:-1100
TZNAME:SST
DTSTART:19700101T000000
END:STANDARD
END:VTIMEZONE
BEGIN:VEVENT
UID:3646443:Event:113674
DTSTAMP:20260419T145518Z
SUMMARY:Spray Smart Deep Drive
DESCRIPTION:Crop spraying has become one of the most important field o
 perations on the farm. The goal is to plant once, but today the spraye
 r makes several important trips across each acre to protect and optimi
 ze the crop. The spraying operation requires the right skills and trai
 ning to ensure equipment efficiency and maximize profit per acre!\r\nE
 vent Details\r\nâ€¢ Brought to you by Ontario Soil and Crop Improvemen
 t Association (OSCIA)\r\nâ€¢ Date: Wednesday, February 7th, 2024\r\nâ€
 ¢ Time: 9am â€“ 4:30pm\r\nâ€¢ Location: The Grand Way Events Centre, 7
 445 Wellington County Rd 21, Centre Wellington, ON N0B 1S0\r\nâ€¢ Cost
 : $100 for OSCIA members, $150 for non-members (includes 1 Year OSCIA 
 membership for new members)\r\nâ€¢ To Register:Â https://bit.ly/AGMSpr
 aySmart   \n\nFor more information visit https://ontag.farms.com/event
 s/spray-smart-deep-drive
DTSTART;TZID=Pacific/Midway:20240207T090000
DTEND;TZID=Pacific/Midway:20240207T160000
CATEGORIES:seminar
LOCATION:The Grand Way Events Centre
WEBSITE:https://bit.ly/AGMSpraySmart
URL:https://bit.ly/AGMSpraySmart
CONTACT:
ORGANIZER:Ontario Soil and Crop Improvement Association (OSCIA)
ATTACH;FMTTYPE="image/jpeg":https://storage.ning.com/topology/rest/1.0
 /file/get/12368581656?profile=original
ATTENDEE;ROLE=REQ-PARTICIPANT;PARTSTAT=ACCEPTED;RSVP=TRUE;CN="OntAG Ad
 min":https://ontag.farms.com/profile/OntAGAdmin
END:VEVENT
END:VCALENDAR
