BEGIN:VCALENDAR
PRODID:NingEventWidget-v1
VERSION:2.0
METHOD:PUBLISH
BEGIN:VTIMEZONE
TZID:Pacific/Midway
X-LIC-LOCATION:Pacific/Midway
BEGIN:STANDARD
TZOFFSETFROM:-1100
TZOFFSETTO:-1100
TZNAME:SST
DTSTART:19700101T000000
END:STANDARD
END:VTIMEZONE
BEGIN:VEVENT
UID:3646443:Event:16771
DTSTAMP:20260422T005851Z
SUMMARY:St. Thomas Horton Market Opening Day Pancake Breakfast- May 7t
 h 2011
DESCRIPTION:\nWe're opening our highly anticipated 2011 market season 
 with our annual pancake breakfast!This breakfast is made possible by s
 o many of our generous vendors. The Turkey Shoppe is supplying us with
  their awesome turkey sausages, Farmgate Markets brings their very pop
 ular bacon, and to top it all off Berry Hill Farm is supplying blueber
 ries and Palmer's is supplying the maple syrup! Hungry yet?\nWe'd also
  like to thank The Real Canadian Superstore for helping us with some m
 uch needed supplies.$5 per Adult, $3 per Child. Hope to see you then! 
 All proceeds will go to the \"Friends of The Market\" Campaign\n\n\n\n
 \n \nYou can find this event (and the market!) on Facebook:\nhttp://
 www.facebook.com/#!/event.php?eid=205957156092335 \n \nThe Outdoor M
 arket season runs from May - October, every Saturday 8:00 am - noon.\
 n \n\nFor more information visit https://ontag.farms.com/events/st-th
 omas-horton-market
DTSTART;TZID=Pacific/Midway:20110507T080000
DTEND;TZID=Pacific/Midway:20110507T120000
CATEGORIES:outdoor, "farmers'", market
LOCATION:St. Thomas, Ontario
WEBSITE:http://www.hortonfarmersmarket.ca/
URL:http://www.hortonfarmersmarket.ca/
CONTACT:
ORGANIZER:
ATTACH;FMTTYPE="image/jpeg":
ATTENDEE;ROLE=REQ-PARTICIPANT;PARTSTAT=ACCEPTED;RSVP=TRUE;CN="Mackenna
  Roth":https://ontag.farms.com/profile/MackennaRoth
END:VEVENT
END:VCALENDAR
