BEGIN:VCALENDAR
PRODID:NingEventWidget-v1
VERSION:2.0
METHOD:PUBLISH
BEGIN:VTIMEZONE
TZID:Pacific/Midway
X-LIC-LOCATION:Pacific/Midway
BEGIN:STANDARD
TZOFFSETFROM:-1100
TZOFFSETTO:-1100
TZNAME:SST
DTSTART:19700101T000000
END:STANDARD
END:VTIMEZONE
BEGIN:VEVENT
UID:3646443:Event:78679
DTSTAMP:20260421T074808Z
SUMMARY:Starting a Farm in Ontario
DESCRIPTION:Facilitated by Mark Ferguson (OMAFRA)\nPreregistration req
 uired, $15 at the door\nCall or email info@greyagservices.ca\n\nFor mo
 re information visit https://ontag.farms.com/events/starting-a-farm-in
 -ontario-1
DTSTART;TZID=Pacific/Midway:20200227T183000
DTEND;TZID=Pacific/Midway:20200227T213000
CATEGORIES:agricultural, education, course
LOCATION:Grey Ag Services, Lower level of Grey Gables, rear entrance
WEBSITE:http://www.greyagservices.ca
URL:http://www.greyagservices.ca
CONTACT:5199863756
ORGANIZER:Grey Agricultutural Services
ATTACH;FMTTYPE="image/jpeg":https://storage.ning.com/topology/rest/1.0
 /file/get/3831330824?profile=original
ATTENDEE;ROLE=REQ-PARTICIPANT;PARTSTAT=ACCEPTED;RSVP=TRUE;CN="Grey Bru
 ce Farmers' Week":https://ontag.farms.com/profile/GreyBruceFarmersWeek
END:VEVENT
END:VCALENDAR
