BEGIN:VCALENDAR
PRODID:NingEventWidget-v1
VERSION:2.0
METHOD:PUBLISH
BEGIN:VTIMEZONE
TZID:Pacific/Midway
X-LIC-LOCATION:Pacific/Midway
BEGIN:STANDARD
TZOFFSETFROM:-1100
TZOFFSETTO:-1100
TZNAME:SST
DTSTART:19700101T000000
END:STANDARD
END:VTIMEZONE
BEGIN:VEVENT
UID:3646443:Event:78412
DTSTAMP:20260419T202740Z
SUMMARY:Starting a Farm in Ontario - RESCHEDULED from Feb 27
DESCRIPTION:Facilitated by Mark Ferguson (OMAFRA) this course is aimed
  at those interested in starting a farm business.  Course will go ove
 r the new entrant self assessment and hilight some of the basic inform
 ation to help you get started on yoru new journey.  Learn about the i
 mportance of panning, evaluating different market opportunties, financ
 ing your new business and record keeping. \nPregrgistration is requri
 ed - info@greyagservices.ca or 519-986-3756 \n$15 cash or check payab
 le at the door.  \nNOTE this course has been rescheduled from Feb 27
 \n\nFor more information visit https://ontag.farms.com/events/starting
 -a-farm-in-ontario-2
DTSTART;TZID=Pacific/Midway:20200305T183000
DTEND;TZID=Pacific/Midway:20200305T213000
CATEGORIES:agricultural, education, course
LOCATION:Grey Ag Services, Lower level of Grey Gables, rear entrance
WEBSITE:http://www.greyagservices.ca
URL:http://www.greyagservices.ca
CONTACT:5199863756
ORGANIZER;CN="Ontario Forage Council":https://ontag.farms.com/profile/
 OntarioForageCouncil403
ATTACH;FMTTYPE="image/jpeg":
ATTENDEE;ROLE=REQ-PARTICIPANT;PARTSTAT=ACCEPTED;RSVP=TRUE;CN="Ontario 
 Forage Council":https://ontag.farms.com/profile/OntarioForageCouncil40
 3
END:VEVENT
END:VCALENDAR
