BEGIN:VCALENDAR
PRODID:NingEventWidget-v1
VERSION:2.0
METHOD:PUBLISH
BEGIN:VTIMEZONE
TZID:Pacific/Midway
X-LIC-LOCATION:Pacific/Midway
BEGIN:STANDARD
TZOFFSETFROM:-1100
TZOFFSETTO:-1100
TZNAME:SST
DTSTART:19700101T000000
END:STANDARD
END:VTIMEZONE
BEGIN:VEVENT
UID:3646443:Event:67765
DTSTAMP:20260420T220738Z
SUMMARY:Starting a Farm in Ontario
DESCRIPTION:Starting a farm can be an exciting step on the way to real
 izing your entrepreneurial business. Whether you currently own farm la
 nd or are looking to purchase, rent or lease acreage, starting a new f
 arm business requires planning. OMAFRA has numerous resources to help 
 you with this process, including steps to plan strategically, understa
 nding markets and diversification, where to find resources and get que
 stions answered, as well as understanding regulations. This workshop i
 s an interactive session designed to coach you as you continue your jo
 urney. Facilitated by OMAFRA Business Management Unit staff.\nWhen?  
     Thurs. Mar. 2, 2017, 7:00 to 9:30 pm\nCost?        $10.0
 0 per person\nPre-Register By: Fri. Feb. 24, 2017\n \n\nFor more info
 rmation visit https://ontag.farms.com/events/starting-a-farm-in-ontari
 o
DTSTART;TZID=Pacific/Midway:20170302T190000
DTEND;TZID=Pacific/Midway:20170302T213000
CATEGORIES:course
LOCATION:Grey Ag Services Boardroom
WEBSITE:http://www.greyagservices.ca/index.php/grey-agricultural-servi
 ces/winter-course-registration
URL:http://www.greyagservices.ca/index.php/grey-agricultural-services/
 winter-course-registration
CONTACT:519 986-3756
ORGANIZER:Grey County Agricultural Services Centre
ATTACH;FMTTYPE="image/jpeg":http://storage.ning.com/topology/rest/1.0/
 file/get/1091547128?profile=original
ATTENDEE;ROLE=REQ-PARTICIPANT;PARTSTAT=ACCEPTED;RSVP=TRUE;CN="Grey Bru
 ce Farmers' Week":https://ontag.farms.com/profile/GreyBruceFarmersWeek
END:VEVENT
END:VCALENDAR
