BEGIN:VCALENDAR
PRODID:NingEventWidget-v1
VERSION:2.0
METHOD:PUBLISH
BEGIN:VTIMEZONE
TZID:Pacific/Midway
X-LIC-LOCATION:Pacific/Midway
BEGIN:STANDARD
TZOFFSETFROM:-1100
TZOFFSETTO:-1100
TZNAME:SST
DTSTART:19700101T000000
END:STANDARD
END:VTIMEZONE
BEGIN:VEVENT
UID:3646443:Event:101915
DTSTAMP:20260420T213747Z
SUMMARY:State of the Canadian Food Industry
DESCRIPTION:Join for a look at the economy and the changing appetites 
 of Canadians.  FCC virtual events are aimed at helping producers impro
 ve their management skills, get information and insights from leading 
 farm management experts, and gain a deeper understanding of the busine
 ss of agriculture.\r\nFor media, there may be opportunities for you to
  explore some of the topics or talk directly to some of the presenters
 . Short segments of these presentations may also be recorded for rebro
 adcast with permission of the presenter, which we will coordinate upon
  request.\r\nThe events are free and the online registration ends at 9
 :00 A.M. ET the day of the event. Consider adding these events to your
  calendar by visiting www.fcc.ca/events.  Speaker: J.P. Gervais and 
 Francis Parisien\r\n \n\nFor more information visit https://ontag.far
 ms.com/events/state-of-the-canadian-food-industry
DTSTART;TZID=Pacific/Midway:20201110T100000
DTEND;TZID=Pacific/Midway:20201110T110000
CATEGORIES:webinar
LOCATION:Online Event
WEBSITE:https://www.eventbrite.ca/e/state-of-the-canadian-food-industr
 y-registration-124454086523
URL:https://www.eventbrite.ca/e/state-of-the-canadian-food-industry-re
 gistration-124454086523
CONTACT:
ORGANIZER:FCC
ATTACH;FMTTYPE="image/jpeg":
ATTENDEE;ROLE=REQ-PARTICIPANT;PARTSTAT=ACCEPTED;RSVP=TRUE;CN="OntAG Ad
 min":https://ontag.farms.com/profile/OntAGAdmin
END:VEVENT
END:VCALENDAR
