BEGIN:VCALENDAR
PRODID:NingEventWidget-v1
VERSION:2.0
METHOD:PUBLISH
BEGIN:VTIMEZONE
TZID:Pacific/Midway
X-LIC-LOCATION:Pacific/Midway
BEGIN:STANDARD
TZOFFSETFROM:-1100
TZOFFSETTO:-1100
TZNAME:SST
DTSTART:19700101T000000
END:STANDARD
END:VTIMEZONE
BEGIN:VEVENT
UID:3646443:Event:78273
DTSTAMP:20260420T201903Z
SUMMARY:Steps to Reduce Disease in Newborn Calves Webinar - December 1
 2
DESCRIPTION:Lifelong health in a beef animal can start with early inte
 rventions to improve newborn calf health and prevent calf death. Ellen
  Crane, BCRC Extension Coordinator, will also demonstration how to use
  the new BCRC website search tool, helping you find the information yo
 u’re looking for faster.\r\nClick Here to registerRegistering on you
 r smartphone? After you click ‘I am not a robot’, scroll up until 
 you find the task to complete.\r\nWhenThursday, December 12th at 7:00 
 pm MT\r\n6:00pm in BC7:00pm in AB8:00pm in SK and MB9:00pm in ON and Q
 C10:00pm in NS, NB and PEI\r\nSpeakers: Steve Hendrick DVM and Ellen C
 rane\n\nFor more information visit https://ontag.farms.com/events/step
 s-to-reduce-disease-in-newborn-calves-webinar-december-12
DTSTART;TZID=Pacific/Midway:20191212T190000
DTEND;TZID=Pacific/Midway:20191212T200000
CATEGORIES:webinar
LOCATION:Beef Cattle Research Council
WEBSITE:http://www.beefresearch.ca/
URL:http://www.beefresearch.ca/
CONTACT:(403) 275-8558
ORGANIZER:The Beef Cattle Research Council
ATTACH;FMTTYPE="image/jpeg":
ATTENDEE;ROLE=REQ-PARTICIPANT;PARTSTAT=ACCEPTED;RSVP=TRUE;CN="OntAG Ad
 min":https://ontag.farms.com/profile/OntAGAdmin
END:VEVENT
END:VCALENDAR
