BEGIN:VCALENDAR
PRODID:NingEventWidget-v1
VERSION:2.0
METHOD:PUBLISH
BEGIN:VTIMEZONE
TZID:Pacific/Midway
X-LIC-LOCATION:Pacific/Midway
BEGIN:STANDARD
TZOFFSETFROM:-1100
TZOFFSETTO:-1100
TZNAME:SST
DTSTART:19700101T000000
END:STANDARD
END:VTIMEZONE
BEGIN:VEVENT
UID:3646443:Event:59966
DTSTAMP:20260425T021544Z
SUMMARY:Stoltz Annual Auction
DESCRIPTION:Stotz Annual Auction - January 2nd - January 29 (ends at n
 oon).  Visit www.stoltzsales.com/auction for full auction listings an
 d current bids.  160 plus items up for auction.\nGuidelines & Rules\n
 \nNo Trades.\nAll units are sold as is, unless specified otherwise.\nD
 elivery is extra.\nBidding Starts January 2, 2015. New bids will NOT b
 e accepted after 12:00 NOON on Thursday, January 29, 2015. The top act
 ive bidders will then be contacted and will bid until the unit is sold
 .\nThe starting bid and minimum bid is listed with each unit.\nThe sta
 rting bid is the Store’s bid. Your bid will be the starting bid plus
  the minimum bid.\nYou will be notified if you have been out bid. At t
 hat time you may decide to place another bid at the set minimum amount
 , or you may decide to drop out.\nUnits without bids may be purchased 
 out of the auction at a buy now cash price found on our website under 
 Used Equipment Listings. Therefore, auction listings are subject to ch
 ange.\nUnsold units are subject to price change.\nCall us today or sto
 p in and place your bid.\n\nGuidelines and Rules apply to all three St
 oltz locations.\n \n\nFor more information visit https://ontag.farms.
 com/events/stoltz-annual-auction
DTSTART;TZID=Pacific/Midway:20150126T110000
DTEND;TZID=Pacific/Midway:20150129T120000
CATEGORIES:auction
LOCATION:Online Auction event only
WEBSITE:http://www.stoltzsales.com/auction/
URL:http://www.stoltzsales.com/auction/
CONTACT:1-800-665-2151
ORGANIZER;CN="Scott Farhood":https://ontag.farms.com/profile/ScottFarh
 ood
ATTACH;FMTTYPE="image/jpeg":
ATTENDEE;ROLE=REQ-PARTICIPANT;PARTSTAT=ACCEPTED;RSVP=TRUE;CN="Scott Fa
 rhood":https://ontag.farms.com/profile/ScottFarhood
END:VEVENT
END:VCALENDAR
