BEGIN:VCALENDAR
PRODID:NingEventWidget-v1
VERSION:2.0
METHOD:PUBLISH
BEGIN:VTIMEZONE
TZID:Pacific/Midway
X-LIC-LOCATION:Pacific/Midway
BEGIN:STANDARD
TZOFFSETFROM:-1100
TZOFFSETTO:-1100
TZNAME:SST
DTSTART:19700101T000000
END:STANDARD
END:VTIMEZONE
BEGIN:VEVENT
UID:3646443:Event:33229
DTSTAMP:20260421T114848Z
SUMMARY:Stormont Soil & Crop Ass. Car Tour
DESCRIPTION:Stormont Soil Crop Ass. Car Tour August 21 Phillip Henrard
 , Potato Farm and Digester Cost $10/adult, bring your box lunch. Meet 
 at 10am at Leon Delorme Ltd. 1260 County Road 2, Curran Contact: Alain
  Legault 613-880-7863\n\nFor more information visit https://ontag.farm
 s.com/events/stormont-soil-crop-ass-car-tour
DTSTART;TZID=Pacific/Midway:20120821T100000
DTEND;TZID=Pacific/Midway:20120821T150000
CATEGORIES:car, tour
LOCATION:Phillip Hernard, Potato Farm and Digester
WEBSITE:
URL:
CONTACT:Alain Legault 613-880-7863
ORGANIZER:SSCIA
ATTACH;FMTTYPE="image/jpeg":
ATTENDEE;ROLE=REQ-PARTICIPANT;PARTSTAT=ACCEPTED;RSVP=TRUE;CN="BA Glaud
 e":https://ontag.farms.com/profile/BAGlaude
END:VEVENT
END:VCALENDAR
