BEGIN:VCALENDAR
PRODID:NingEventWidget-v1
VERSION:2.0
METHOD:PUBLISH
BEGIN:VTIMEZONE
TZID:Pacific/Midway
X-LIC-LOCATION:Pacific/Midway
BEGIN:STANDARD
TZOFFSETFROM:-1100
TZOFFSETTO:-1100
TZNAME:SST
DTSTART:19700101T000000
END:STANDARD
END:VTIMEZONE
BEGIN:VEVENT
UID:3646443:Event:101993
DTSTAMP:20260419T181722Z
SUMMARY:Strip-Till and Soil Fertility: Fertilizer and Manure Applicati
 on
DESCRIPTION:Strip-Till and Soil Fertility: Fertilizer and Manure Appli
 cationThursday, December 15th, 7-8pm Hear from experienced and innovat
 ive Ontario strip-till farmers! Mike Cornelissen, Jake Kraayenbrink an
 d Tyler McBlain\r\n \n\nFor more information visit https://ontag.farm
 s.com/events/strip-till-and-soil-fertility-fertilizer-and-manure-appli
 cation
DTSTART;TZID=Pacific/Midway:20201215T190000
DTEND;TZID=Pacific/Midway:20201215T200000
CATEGORIES:webinar
LOCATION:Online Event
WEBSITE:https://www.eventbrite.ca/e/strip-till-speaker-series-tickets-
 129347087621
URL:https://www.eventbrite.ca/e/strip-till-speaker-series-tickets-1293
 47087621
CONTACT:
ORGANIZER:OMAFRA Soil Team
ATTACH;FMTTYPE="image/jpeg":
ATTENDEE;ROLE=REQ-PARTICIPANT;PARTSTAT=ACCEPTED;RSVP=TRUE;CN="OntAG Ad
 min":https://ontag.farms.com/profile/OntAGAdmin
END:VEVENT
END:VCALENDAR
