BEGIN:VCALENDAR
PRODID:NingEventWidget-v1
VERSION:2.0
METHOD:PUBLISH
BEGIN:VTIMEZONE
TZID:Pacific/Midway
X-LIC-LOCATION:Pacific/Midway
BEGIN:STANDARD
TZOFFSETFROM:-1100
TZOFFSETTO:-1100
TZNAME:SST
DTSTART:19700101T000000
END:STANDARD
END:VTIMEZONE
BEGIN:VEVENT
UID:3646443:Event:61213
DTSTAMP:20260422T005716Z
SUMMARY:Super Pull Show
DESCRIPTION:Super Pull at Country Heritage Park: Noise, energy, muscle
 , competition, crowds, vendors, entertainment, fun – all part of thi
 s year’s 3rd annual wrestle-mania of tractor and truck Super Pull ev
 ent at Country Heritage Park in Milton - one of the best venues in Sou
 thern Ontario.\n\nFor more information visit https://ontag.farms.com/e
 vents/super-pull-show
DTSTART;TZID=Pacific/Midway:20150718T000000
DTEND;TZID=Pacific/Midway:20150718T235900
CATEGORIES:show
LOCATION:Country Heritage Park
WEBSITE:http://www.countryheritagepark.com/
URL:http://www.countryheritagepark.com/
CONTACT:
ORGANIZER;CN="OntAG Admin":https://ontag.farms.com/profile/OntAGAdmin
ATTACH;FMTTYPE="image/jpeg":
ATTENDEE;ROLE=REQ-PARTICIPANT;PARTSTAT=ACCEPTED;RSVP=TRUE;CN="OntAG Ad
 min":https://ontag.farms.com/profile/OntAGAdmin
END:VEVENT
END:VCALENDAR
