BEGIN:VCALENDAR
PRODID:NingEventWidget-v1
VERSION:2.0
METHOD:PUBLISH
BEGIN:VTIMEZONE
TZID:Pacific/Midway
X-LIC-LOCATION:Pacific/Midway
BEGIN:STANDARD
TZOFFSETFROM:-1100
TZOFFSETTO:-1100
TZNAME:SST
DTSTART:19700101T000000
END:STANDARD
END:VTIMEZONE
BEGIN:VEVENT
UID:3646443:Event:32063
DTSTAMP:20260421T101631Z
SUMMARY:Talbotville Berry Farm Hiring for 2012 Season
DESCRIPTION:We are accepting resumes for our 2012 Season!\nDeadline Da
 te: April 21, 2012. Part-Time Positions in Farm Market and Chip Wagon.
  Must have Drivers Licence.  Must be able to work Weekends and Holida
 ys.  Must have excellent people skills.  Email your resume to talbot
 villeberryfarm@gmail.com Thank you in advance, only those being interv
 iewed will be contacted.\n\nFor more information visit https://ontag.f
 arms.com/events/talbotville-berry-farm-hiring-for-2012-season
DTSTART;TZID=Pacific/Midway:20120413T180000
DTEND;TZID=Pacific/Midway:20120421T190000
CATEGORIES:hiring, for, 2012, season
LOCATION:Talbotville Berry Farm
WEBSITE:http://www.talbotvilleberryfarm.com
URL:http://www.talbotvilleberryfarm.com
CONTACT:
ORGANIZER;CN="Talbotville Berry Farm":https://ontag.farms.com/profile/
 TalbotvilleBerryFarm
ATTACH;FMTTYPE="image/jpeg":http://storage.ning.com/topology/rest/1.0/
 file/get/1091516624?profile=original
ATTENDEE;ROLE=REQ-PARTICIPANT;PARTSTAT=ACCEPTED;RSVP=TRUE;CN="Talbotvi
 lle Berry Farm":https://ontag.farms.com/profile/TalbotvilleBerryFarm
END:VEVENT
END:VCALENDAR
