BEGIN:VCALENDAR
PRODID:NingEventWidget-v1
VERSION:2.0
METHOD:PUBLISH
BEGIN:VTIMEZONE
TZID:Pacific/Midway
X-LIC-LOCATION:Pacific/Midway
BEGIN:STANDARD
TZOFFSETFROM:-1100
TZOFFSETTO:-1100
TZNAME:SST
DTSTART:19700101T000000
END:STANDARD
END:VTIMEZONE
BEGIN:VEVENT
UID:3646443:Event:39245
DTSTAMP:20260421T110404Z
SUMMARY:TEDx Talk featuring Farm Radio International
DESCRIPTION:Blythe McKay from Farm Radio International (www.farmradio.
 org) will be doing a TEDx Talk in Hamilton, Ontario. Tickets available
 .\nhttp://www.ted.com/tedx/events/7625\n\nFor more information visit h
 ttps://ontag.farms.com/events/tedx-talk-featuring-farm-radio-internati
 onal
DTSTART;TZID=Pacific/Midway:20130327T150000
DTEND;TZID=Pacific/Midway:20130327T173000
CATEGORIES:tedx, talk
LOCATION:Mohawk College, Parks Canada Discovery Centre
WEBSITE:http://www.ted.com/tedx/events/7625
URL:http://www.ted.com/tedx/events/7625
CONTACT:613-722-3339
ORGANIZER;CN="Brenda Jackson":https://ontag.farms.com/profile/BrendaJa
 ckson
ATTACH;FMTTYPE="image/jpeg":
ATTENDEE;ROLE=REQ-PARTICIPANT;PARTSTAT=ACCEPTED;RSVP=TRUE;CN="Brenda J
 ackson":https://ontag.farms.com/profile/BrendaJackson
END:VEVENT
END:VCALENDAR
