BEGIN:VCALENDAR
PRODID:NingEventWidget-v1
VERSION:2.0
METHOD:PUBLISH
BEGIN:VTIMEZONE
TZID:Pacific/Midway
X-LIC-LOCATION:Pacific/Midway
BEGIN:STANDARD
TZOFFSETFROM:-1100
TZOFFSETTO:-1100
TZNAME:SST
DTSTART:19700101T000000
END:STANDARD
END:VTIMEZONE
BEGIN:VEVENT
UID:3646443:Event:77380
DTSTAMP:20260423T212423Z
SUMMARY:Temporary Foreign Worker seminar
DESCRIPTION:How will the recent changes to the Temporary Foreign Worke
 r program impact your farm?\r\nErnest Wheeler, Ministry of Economic De
 velopment, Job Creation and Trade will walk you through the updates an
 d answer any questions.  Topics covered:\r\n\r\nPermanent residency op
 tions (national and provincial options)\r\nUpdates to the Temporary Fo
 reign Worker program \r\n\r\n $20 (OPIC members) / $25 (Non-OPIC memb
 ers)   To pre-register, contact Donna Kaczmarczyk at 519-272-1532, or
  email dkaczmarczyk@Southwestvets.ca. \n\nFor more information visit
  https://ontag.farms.com/events/temporary-foreign-worker-seminar
DTSTART;TZID=Pacific/Midway:20191023T143000
DTEND;TZID=Pacific/Midway:20191023T163000
CATEGORIES:seminar
LOCATION:Stratford Golf and Country Club
WEBSITE:
URL:
CONTACT:519-272-1532
ORGANIZER:Ontario Pork Industry Council
ATTACH;FMTTYPE="image/jpeg":
ATTENDEE;ROLE=REQ-PARTICIPANT;PARTSTAT=ACCEPTED;RSVP=TRUE;CN="OntAG Ad
 min":https://ontag.farms.com/profile/OntAGAdmin
END:VEVENT
END:VCALENDAR
