BEGIN:VCALENDAR
PRODID:NingEventWidget-v1
VERSION:2.0
METHOD:PUBLISH
BEGIN:VTIMEZONE
TZID:Pacific/Midway
X-LIC-LOCATION:Pacific/Midway
BEGIN:STANDARD
TZOFFSETFROM:-1100
TZOFFSETTO:-1100
TZNAME:SST
DTSTART:19700101T000000
END:STANDARD
END:VTIMEZONE
BEGIN:VEVENT
UID:3646443:Event:32194
DTSTAMP:20260421T090124Z
SUMMARY:Thanksgiving Day Fun at Southbrook Farms
DESCRIPTION:Come out and visit us. Lots of family fun today! Pony Ride
 s & Petty Zoo, Children's Amusement Rides, Wagon Rides, Face Painting,
  Corn Maze, Walking Trails, Playground, BBQ Corn-on-the-Cob and lots m
 ore. Come enjoy the grounds and the fall colours and pick your perfect
  Pumpkin. Our Bakery will be busy baking Famous Southbrook Pies, Cooki
 es,Turnovers & more. If you plan to come see us we highly recommend to
  call and pre-order your Pie(s) before 4 p.m Friday. They will be war
 m and ready for you to pick-up. (905)832-2548 Our Cafe serving coffees
 , teas, hot apple ciders, and lots of treats for the whole family to e
 njoy. No Outside Food or Smoking Permitted on Property.\n\n \n\nFor m
 ore information visit https://ontag.farms.com/events/thanksgiving-day-
 fun-at-southbrook-farms
DTSTART;TZID=Pacific/Midway:20121008T100000
DTEND;TZID=Pacific/Midway:20121008T180000
CATEGORIES:family, fun, festival
LOCATION:Southbrook Farms & Pumpkin Patch
WEBSITE:http://www.southbrookpumpkinpatch.com
URL:http://www.southbrookpumpkinpatch.com
CONTACT:(905) 832-2548
ORGANIZER;CN="Southbrook Farms":https://ontag.farms.com/profile/CathyC
 hiappetta
ATTACH;FMTTYPE="image/jpeg":http://storage.ning.com/topology/rest/1.0/
 file/get/1091518083?profile=original
ATTENDEE;ROLE=REQ-PARTICIPANT;PARTSTAT=ACCEPTED;RSVP=TRUE;CN="Southbro
 ok Farms":https://ontag.farms.com/profile/CathyChiappetta
END:VEVENT
END:VCALENDAR
