BEGIN:VCALENDAR
PRODID:NingEventWidget-v1
VERSION:2.0
METHOD:PUBLISH
BEGIN:VTIMEZONE
TZID:Pacific/Midway
X-LIC-LOCATION:Pacific/Midway
BEGIN:STANDARD
TZOFFSETFROM:-1100
TZOFFSETTO:-1100
TZNAME:SST
DTSTART:19700101T000000
END:STANDARD
END:VTIMEZONE
BEGIN:VEVENT
UID:3646443:Event:13173
DTSTAMP:20260421T051901Z
SUMMARY:The 38th Annual Ontario Pork Congress
DESCRIPTION:Trade ShowBuilding on success, from year to year...So much
  to do, so many sights, sounds and scents, and so many people to visit
 , it’s a delightful challenge to fit everything into just two days.B
 uilding on the tremendous success of previous shows our exhibitors are
  excited to keep expanding their exhibits to utilize the new space at 
 Stratford's Rotary Complex. More space means more activities and more 
 celebration of all that’s great about pork production in Ontario.And
  following the trade show, attendees are invited to join us in Blocks 
 C and D of the Colliseum for the annual PigNic, where we'll have a who
 le hog on the BBQ! We look forward to seeing you there! At the 38th An
 nual Ontario Pork Congress.For more events CLICK HERE: http://www.pork
 congress.on.ca/events.php?id=279\n\nFor more information visit https:/
 /ontag.farms.com/events/the-38th-annual-ontario-pork
DTSTART;TZID=Pacific/Midway:20110621T000000
DTEND;TZID=Pacific/Midway:20110622T235900
CATEGORIES:pork, congress
LOCATION:Stratford Rotary Complex
WEBSITE:http://www.porkcongress.on.ca/events.php
URL:http://www.porkcongress.on.ca/events.php
CONTACT:
ORGANIZER:Ontario Porl
ATTACH;FMTTYPE="image/jpeg":http://storage.ning.com/topology/rest/1.0/
 file/get/1091509322?profile=original
ATTENDEE;ROLE=REQ-PARTICIPANT;PARTSTAT=ACCEPTED;RSVP=TRUE;CN="OntAG Ad
 min":https://ontag.farms.com/profile/OntAGAdmin
END:VEVENT
END:VCALENDAR
