BEGIN:VCALENDAR
PRODID:NingEventWidget-v1
VERSION:2.0
METHOD:PUBLISH
BEGIN:VTIMEZONE
TZID:Pacific/Midway
X-LIC-LOCATION:Pacific/Midway
BEGIN:STANDARD
TZOFFSETFROM:-1100
TZOFFSETTO:-1100
TZNAME:SST
DTSTART:19700101T000000
END:STANDARD
END:VTIMEZONE
BEGIN:VEVENT
UID:3646443:Event:113430
DTSTAMP:20260420T004459Z
SUMMARY:The Annual International Agricultural Conference Canada 2024
DESCRIPTION:IACC24 aims to bring together global agricultural stakehol
 ders to foster collaboration & to address related challenges & opportu
 nities.  Mission of this conference is to bring together global agricu
 ltural stakeholders, including researchers, policymakers, industry lea
 ders, and farmers, to foster collaboration, knowledge exchange, and in
 novation in order to address the challenges and opportunities facing t
 he agricultural sector worldwide.  Attendees of IACC24 will include pr
 ofessionals at various stages of their careers, from recent graduates 
 to seasoned veterans. They may come from a range of agricultural indus
 tries and sectors, and may be seeking to enhance their skills, explore
  new career paths, or connect with others in their field. \n\nFor more
  information visit https://ontag.farms.com/events/the-annual-internati
 onal-agricultural-conference-canada-2024
DTSTART;TZID=Pacific/Midway:20240816T090000
DTEND;TZID=Pacific/Midway:20240817T160000
CATEGORIES:agricultural, conference
LOCATION:Ontario Science Centre
WEBSITE:https://intagrico.ca/
URL:https://intagrico.ca/
CONTACT:
ORGANIZER:IACC
ATTACH;FMTTYPE="image/jpeg":https://storage.ning.com/topology/rest/1.0
 /file/get/12435885074?profile=original
ATTENDEE;ROLE=REQ-PARTICIPANT;PARTSTAT=ACCEPTED;RSVP=TRUE;CN="OntAG Ad
 min":https://ontag.farms.com/profile/OntAGAdmin
END:VEVENT
END:VCALENDAR
