BEGIN:VCALENDAR
PRODID:NingEventWidget-v1
VERSION:2.0
METHOD:PUBLISH
BEGIN:VTIMEZONE
TZID:Pacific/Midway
X-LIC-LOCATION:Pacific/Midway
BEGIN:STANDARD
TZOFFSETFROM:-1100
TZOFFSETTO:-1100
TZNAME:SST
DTSTART:19700101T000000
END:STANDARD
END:VTIMEZONE
BEGIN:VEVENT
UID:3646443:Event:70288
DTSTAMP:20260421T104057Z
SUMMARY:The Canadian Centre for Food Integrity (CCFI) Public Trust Sum
 mit
DESCRIPTION:Leading research on public trust and transparency, key exp
 erts with North American and global insights on trust and collaboratio
 n, and a lively panel discussion with millennial consumers telling us
  exactly what they think are just a few highlights.\r\n\r\nNew Leading
  Research\r\nKey Experts with global insights\r\nmillennial consumers 
 telling exactly what they thinking\r\n\r\n\r\nRegister Now\n\nFor more
  information visit https://ontag.farms.com/events/the-canadian-centre-
 for-food-integrity-ccfi-public-trust-summit
DTSTART;TZID=Pacific/Midway:20170918T000000
DTEND;TZID=Pacific/Midway:20170920T235900
CATEGORIES:summit
LOCATION:Calgary
WEBSITE:http://www.foodintegrity.ca/event/public-trust-summit-tackling
 -transparency-truth-trust/
URL:http://www.foodintegrity.ca/event/public-trust-summit-tackling-tra
 nsparency-truth-trust/
CONTACT:
ORGANIZER:The Canadian Centre for Food Integrity
ATTACH;FMTTYPE="image/jpeg":
ATTENDEE;ROLE=REQ-PARTICIPANT;PARTSTAT=ACCEPTED;RSVP=TRUE;CN="OntAG Ad
 min":https://ontag.farms.com/profile/OntAGAdmin
END:VEVENT
END:VCALENDAR
