BEGIN:VCALENDAR
PRODID:NingEventWidget-v1
VERSION:2.0
METHOD:PUBLISH
BEGIN:VTIMEZONE
TZID:Pacific/Midway
X-LIC-LOCATION:Pacific/Midway
BEGIN:STANDARD
TZOFFSETFROM:-1100
TZOFFSETTO:-1100
TZNAME:SST
DTSTART:19700101T000000
END:STANDARD
END:VTIMEZONE
BEGIN:VEVENT
UID:3646443:Event:39851
DTSTAMP:20260425T135131Z
SUMMARY:The Canadian Dairy XPO
DESCRIPTION:CDX is PROUD to announce the inaugural Canadian Dairy XPO 
 is to be held at The Stratford Rotary Complex.\n353 McCarthy Road, P.O
 . Box 818, Stratford ON, Canada N5A 6W1\nFounding Partners\n\nHost Cit
 y\n\nSupporting Partners\n \n\nFor more information visit https://onta
 g.farms.com/events/the-canadian-dairy-xpo-1
DTSTART;TZID=Pacific/Midway:20140205T000000
DTEND;TZID=Pacific/Midway:20140206T235900
CATEGORIES:dairy, expo
LOCATION:Stratford Rotary Complex
WEBSITE:http://dairyxpo.ca/index.php
URL:http://dairyxpo.ca/index.php
CONTACT:Office: 226.381.0282
ORGANIZER:ROI Event Management - Jordan Underhill
ATTACH;FMTTYPE="image/jpeg":http://storage.ning.com/topology/rest/1.0/
 file/get/1091520759?profile=original
ATTENDEE;ROLE=REQ-PARTICIPANT;PARTSTAT=ACCEPTED;RSVP=TRUE;CN="Erica Un
 ger":https://ontag.farms.com/profile/EricaUnger
ATTENDEE;ROLE=REQ-PARTICIPANT;PARTSTAT=ACCEPTED;RSVP=TRUE;CN="Yolanda 
 vdWeerd":https://ontag.farms.com/profile/YolandavdWeerd
ATTENDEE;ROLE=REQ-PARTICIPANT;PARTSTAT=ACCEPTED;RSVP=TRUE;CN="OntAG Ad
 min":https://ontag.farms.com/profile/OntAGAdmin
END:VEVENT
END:VCALENDAR
