BEGIN:VCALENDAR
PRODID:NingEventWidget-v1
VERSION:2.0
METHOD:PUBLISH
BEGIN:VTIMEZONE
TZID:Pacific/Midway
X-LIC-LOCATION:Pacific/Midway
BEGIN:STANDARD
TZOFFSETFROM:-1100
TZOFFSETTO:-1100
TZNAME:SST
DTSTART:19700101T000000
END:STANDARD
END:VTIMEZONE
BEGIN:VEVENT
UID:3646443:Event:32895
DTSTAMP:20260421T232228Z
SUMMARY:The Canadian Greenhouse Conference 2012 #CGC2012
DESCRIPTION:Located at the Scotiabank Convention Centre in exciting 
 Niagara Falls, Canada, the CGC offers two days of informative, motivat
 ing sessions and a large trade show with over 300 booth spaces.  Re-
 Energize Your Thinking...\nWhat's new and innovative in technology, cr
 ops and marketing.\nRe-Energize Your Business...\nValuable information
  for managing your labour resources and watching the bottom line!\nRe-
 Energize Your Mind...\nKeep yourself mentally healthy and ready for su
 ccess. \nIn addition to the sessions and trade show, the Canadian Gre
 enhouse Conference presents 3  fun events to enhance your conference 
 experience.\n\nBus Tour - a conference tradition, the full day excurs
 ion tours 4 operations                                
                                ( 2 vegetable, 2 flower)
                     Sponsored by Fafard.\n\n\nHappy
  Hour! - Wednesday, October 3rd at 4 pm on the Trade Show floor.  It'
 s been a great day - relax.     Cash bar\n\n\nWednesday Banquet and 
 Entertainment - Held at the Marriott Gateway on the Falls Hotel, it i
 s the ideal way to keep the fun going.  Entertainment by The Second 
 City - the legendary comedy troupe from Toronto.  Don't worry - ther
 e will still be time after the show to enjoy all that Niagara Falls ha
 s to offer.\n\n\nFor more information visit https://ontag.farms.com/ev
 ents/the-canadian-greenhouse-conference-2012-cgc2012
DTSTART;TZID=Pacific/Midway:20121003T000000
DTEND;TZID=Pacific/Midway:20121004T235900
CATEGORIES:greenhouse, conference
LOCATION:Scotiabank Convention Centre
WEBSITE:http://www.canadiangreenhouseconference.com
URL:http://www.canadiangreenhouseconference.com
CONTACT:
ORGANIZER:Canadian Greenhouse Conference
ATTACH;FMTTYPE="image/jpeg":http://storage.ning.com/topology/rest/1.0/
 file/get/1091517266?profile=original
ATTENDEE;ROLE=REQ-PARTICIPANT;PARTSTAT=ACCEPTED;RSVP=TRUE;CN="OntAG Ad
 min":https://ontag.farms.com/profile/OntAGAdmin
END:VEVENT
END:VCALENDAR
