BEGIN:VCALENDAR
PRODID:NingEventWidget-v1
VERSION:2.0
METHOD:PUBLISH
BEGIN:VTIMEZONE
TZID:Pacific/Midway
X-LIC-LOCATION:Pacific/Midway
BEGIN:STANDARD
TZOFFSETFROM:-1100
TZOFFSETTO:-1100
TZNAME:SST
DTSTART:19700101T000000
END:STANDARD
END:VTIMEZONE
BEGIN:VEVENT
UID:3646443:Event:113493
DTSTAMP:20260422T190727Z
SUMMARY:The Fourth Crop: Winter Canola, Winter Barley &amp; Edible Bea
 ns
DESCRIPTION:Two producers will share their experience with integrating
  a fourth crop into their rotation.\nPresented by: Megan Moran of OMAF
 RA, and producers Stuart Wright & Adrian Op't Hoog\nTuesday February 2
 7th, 2024, 1:00 - 3:00 pm at Grey Ag Services, also livestreamed. $20.
  Registration is required.\nFind more info at: https://www.greyagservi
 ces.ca/courses-webinars info@greyagservices.ca 519-986-3756\n\nFor mor
 e information visit https://ontag.farms.com/events/the-fourth-crop-win
 ter-canola-winter-barley-amp-edible-beans
DTSTART;TZID=Pacific/Midway:20240227T130000
DTEND;TZID=Pacific/Midway:20240227T150000
CATEGORIES:course
LOCATION:Grey Ag Services
WEBSITE:https://www.greyagservices.ca/
URL:https://www.greyagservices.ca/
CONTACT:5199863756
ORGANIZER:Grey Ag Services
ATTACH;FMTTYPE="image/jpeg":https://storage.ning.com/topology/rest/1.0
 /file/get/12365479856?profile=original
ATTENDEE;ROLE=REQ-PARTICIPANT;PARTSTAT=ACCEPTED;RSVP=TRUE;CN="Grey Bru
 ce Farmers' Week":https://ontag.farms.com/profile/GreyBruceFarmersWeek
END:VEVENT
END:VCALENDAR
